Workbook
Name allvoltages: #REF!
Name allzones: #REF!
Name aveday: #REF!
Name AveDays: #REF!
Name avgdaysmth: #REF!
Name avgdaysmth: #REF!
Name ClearREVcrr: #REF!,#REF!,#REF!,#REF!
Name ClrCRR: #REF!,#REF!,#REF!,#REF!
Name ClrSCRR: #REF!,#REF!,#REF!,#REF!
Name ClrSubPhADDlevy: #REF!,#REF!,#REF!,#REF!
Name ClrSubPhAddLevyRisk: #REF!,#REF!,#REF!,#REF!
Name ClrSubPhase: #REF!,#REF!,#REF!,#REF!
Name ClrSUBR: #REF!,#REF!,#REF!,#REF!
Name DxLoss1: #REF!
Name DxLoss2: #REF!
Name DxLoss3: #REF!
Name DxLoss4: #REF!
Name EnviroLevy: #REF!
Name EnviroOPT: #REF!
Name EnvLevyINrate: #REF!
Name Factor: #REF!
Name g: #REF!
Name GenTUoSadd: #REF!
Name InAltmunicAffSub: #REF!
Name InAltmunicDx: #REF!
Name InAltmunicDxPOD: #REF!
Name InAltmunicE: #REF!
Name InAltmunicElecSub: #REF!
Name InAltmunickvarh: #REF!
Name InAltmunicLVSub: #REF!
Name InAltmunicmain: #REF!
Name InAltmunicNDC: #REF!
Name InAltmunicNetSub: #REF!
Name InAltmunicRAffSub: #REF!
Name InAltmunicRDx: #REF!
Name InAltmunicRDxPOD: #REF!
Name InAltmunicRE: #REF!
Name InAltmunicRel: #REF!
Name InAltmunicRElecSub: #REF!
Name InAltmunicRet: #REF!
Name InAltmunicRkvarh: #REF!
Name InAltmunicRLVSub: #REF!
Name InAltmunicRmain: #REF!
Name InAltmunicRNDC: #REF!
Name InAltmunicRNetSub: #REF!
Name InAltmunicRRel: #REF!
Name InAltmunicRRet: #REF!
Name InAltmunicRTx: #REF!
Name InAltmunicRTxDx: #REF!
Name InAltmunicTx: #REF!
Name InAltmunicTxDx: #REF!
Name InBusAffSub: #REF!
Name InBusDx: #REF!
Name InBusDxPOD: #REF!
Name InBusE: #REF!
Name InBusElecSub: #REF!
Name InBuskvarh: #REF!
Name InBusLVSub: #REF!
Name InBusmain: #REF!
Name InBusmunicAffSub: #REF!

Sheet NightSave UrbanS - Energy
A1: Transmission zone | B1: Voltage | C1: Active energy charge [c/kWh] - High | D1: Active energy charge [c/kWh] - Low | E1: Energy demand charge [R/kVA/m] - High | F1: Energy demand charge [R/kVA/m] - Low | G1: Transmission network charges [R/kVA/m]
C2: Active energy charge [c/kWh]
C3: High demand season Jun - Aug | D3: Low demand season Sep - May | G3: Transmission network charges [R/kVA/m]
A4: Transmission zone | B4: Voltage
A5: ≤ 300km | B5: < 500V | C5: 156.61 | D5: 121.77 | E5: R328.34 | F5: R42.34 | G5: R17.67
B6: ≥ 500V & < 66kV | C6: 148.29 | D6: 115.75 | E6: R317.77 | F6: R40.89 | G6: R16.12
B7: ≥ 66kV & ≤ 132kV | C7: 147.20 | D7: 114.33 | E7: R306.14 | F7: R39.36 | G7: R15.68
B8: > 132kV* | C8: 137.71 | D8: 107.07 | E8: R295.39 | F8: R38.01 | G8: R19.86
A9: > 300km and ≤ 600km | B9: < 500V | C9: 158.65 | D9: 123.09 | E9: R331.73 | F9: R42.69 | G9: R17.74
B10: ≥ 500V & < 66kV | C10: 151.39 | D10: 118.09 | E10: R321.06 | F10: R41.27 | G10: R16.31
B11: ≥ 66kV & ≤ 132kV | C11: 150.27 | D11: 116.72 | E11: R309.29 | F11: R39.75 | G11: R15.81
B12: > 132kV* | C12: 140.54 | D12: 109.28 | E12: R298.36 | F12: R38.38 | G12: R20.05
A13: > 600km and ≤ 900km | B13: < 500V | C13: 160.16 | D13: 124.24 | E13: R335.05 | F13: R43.08 | G13: R17.98
B14: ≥ 500V & < 66kV | C14: 152.92 | D14: 119.31 | E14: R324.25 | F14: R41.74 | G14: R16.40
B15: ≥ 66kV & ≤ 132kV | C15: 151.77 | D15: 117.88 | E15: R312.39 | F15: R40.16 | G15: R15.94
B16: > 132kV* | C16: 141.96 | D16: 110.38 | E16: R301.31 | F16: R38.74 | G16: R20.32
A17: > 900km | B17: < 500V | C17: 161.88 | D17: 125.50 | E17: R338.41 | F17: R43.49 | G17: R18.06
B18: ≥ 500V & < 66kV | C18: 154.44 | D18: 120.45 | E18: R327.46 | F18: R42.12 | G18: R16.59
B19: ≥ 66kV & ≤ 132kV | C19: 153.29 | D19: 119.01 | E19: R315.55 | F19: R40.59 | G19: R16.05
B20: > 132kV* | C20: 143.52 | D20: 111.60 | E20: R304.48 | F20: R39.20 | G20: R20.45

Sheet Ruraflex - Ancillary & Demand
A1: Voltage | B1: Ancillary service charge [c/kWh] | C1: Network demand charge [c/kWh]
B2: Ancillary service charge [c/kWh] | C2: Network demand charge [c/kWh] in all time-of-use periods
A3: Voltage
A4: < 500V | B4: 0.82 | C4: 53.25
A5: ≥ 500V & < 22kV | B5: 0.82 | C5: 46.60

Sheet Ruraflex - Service & Admin
A1: Customer categories | B1: Service charge [R/account/day] | C1: Administration charge [R/POD/day]
B2: Service charge [R/account/day] | C2: Administration charge [R/POD/day]
A3: Customer categories
A4: ≤ 100 kVA | B4: R36.26 | C4: R10.28
A5: > 100 kVA & ≤ 500 kVA | B5: R123.67 | C5: R57.32
A6: > 500 kVA & ≤ 1 MVA | B6: R380.44 | C6: R87.97
A7: > 1 MVA | B7: R380.44 | C7: R163.27
A8: Key customers | B8: R7 455.65 | C8: R163.27

Sheet Ruraflex - Energy
A1: Transmission zone | B1: Voltage | C1: ACTIVE ENERGY (c/kWh) High - Peak | D1: ACTIVE ENERGY (c/kWh) High - Standard | E1: ACTIVE ENERGY (c/kWh) High - Off Peak | F1: ACTIVE ENERGY (c/kWh) Low - Peak | G1: ACTIVE ENERGY (c/kWh) Low - Standard | H1: ACTIVE ENERGY (c/kWh) Low - Off Peak | I1: Network capacity charges [R/kVa/m]
C2: ACTIVE ENERGY (c/kWh)
C3: High demand season | Jun - Aug | F3: Low demand season | Sep - May | I3: Network capacity charges [R/kVA/m]
C4: Peak | D4: Standard | E4: Off Peak | F4: Peak | G4: Standard | H4: Off Peak
A5: Transmission zone | B5: Voltage
A6: ≤ 300km | B6: < 500V | C6: 656.54 | D6: 198.87 | E6: 108.01 | F6: 214.18 | G6: 147.39 | H6: 93.50 | I6: R37.34
B7: ≥ 500V & ≤ 22kV | C7: 650.01 | D7: 196.92 | E7: 106.93 | F7: 212.08 | G7: 145.90 | H7: 92.55 | I7: R34.26
A8: > 300km and ≤ 600km | B8: < 500V | C8: 663.06 | D8: 200.90 | E8: 109.03 | F8: 216.28 | G8: 148.88 | H8: 94.47 | I8: R37.50
B9: ≥ 500V & ≤ 22kV | C9: 656.53 | D9: 198.83 | E9: 108.01 | F9: 214.18 | G9: 147.37 | H9: 93.50 | I9: R34.45
A10: > 600km and ≤ 900km | B10: < 500V | C10: 669.71 | D10: 202.85 | E10: 110.17 | F10: 218.42 | G10: 150.31 | H10: 95.41 | I10: R37.70
B11: ≥ 500V & ≤ 22kV | C11: 663.03 | D11: 200.86 | E11: 109.03 | F11: 216.28 | G11: 148.88 | H11: 94.47 | I11: R34.63
A12: > 900km | B12: < 500V | C12: 676.41 | D12: 204.96 | E12: 111.20 | F12: 220.58 | G12: 151.87 | H12: 96.35 | I12: R37.81
B13: ≥ 500V & ≤ 22kV | C13: 669.70 | D13: 202.85 | E13: 110.17 | F13: 218.42 | G13: 150.31 | H13: 95.41 | I13: R34.65

Sheet NightSave Rural - Ancillary
A1: Voltage | B1: Ancillary service charge [c/kWh] | C1: Network demand charge [c/kWh]
C2: Network demand charge [c/kWh] in all time-of-use periods
A3: Voltage
A4: < 500V | B4: 0.82 | C4: 53.25
A5: ≥ 500V & ≤ 22kV | B5: 0.82 | C5: 46.60

Sheet NightSave Rural - Service & Adm
A1: Customer categories | B1: Service charge [R/account/day] | C1: Administration charge [R/POD/day]
B2: Service charge [R/account/day] | C2: Administration charge [R/POD/day]
A3: Customer categories
A4: ≤ 100 kVA | B4: R36.26 | C4: R10.28
A5: > 100 kVA & ≤ 500 kVA | B5: R123.67 | C5: R57.32
A6: > 500 kVA & ≤ 1 MVA | B6: R380.44 | C6: R87.97
A7: > 1 MVA | B7: R380.44 | C7: R163.27
A8: Key customers | B8: R7 455.65 | C8: R163.27

Sheet NightSave Rural - Energy
A1: Transmission zone | B1: Voltage | C1: Active energy charge [c/kWh] - High | D1: Active energy charge [c/kWh] - Low | E1: Energy demand charge [R/kVA/m] - High | F1: Energy demand charge [R/kVA/m] - Low | G1: Network capacity charges [R/kVA/m]
C2: Active energy charge [c/kWh] | E2: Energy demand charge [R/kVA/m]
C3: High demand season Jun - Aug | D3: Low demand season Sep - May | E3: High demand season Jun - Aug | F3: Low demand season Sep - May
A4: Transmission zone | B4: Voltage
A5: ≤ 300km | B5: < 500V | C5: 160.12 | D5: 124.44 | E5: R524.02 | F5: R277.36 | G5: R26.76
B6: ≥ 500V & ≤ 22kV | C6: 158.24 | D6: 123.03 | E6: R507.80 | F6: R267.46 | G6: R24.57
A7: > 300km and ≤ 600km | B7: < 500V | C7: 161.74 | D7: 125.69 | E7: R530.39 | F7: R281.19 | G7: R26.80
B8: ≥ 500V & ≤ 22kV | C8: 159.83 | D8: 124.24 | E8: R514.01 | F8: R271.20 | G8: R24.66
A9: > 600km and ≤ 900km | B9: < 500V | C9: 163.29 | D9: 126.90 | E9: R536.74 | F9: R284.99 | G9: R27.08
B10: ≥ 500V & ≤ 22kV | C10: 161.39 | D10: 125.49 | E10: R520.20 | F10: R274.97 | G10: R24.83
A11: > 900km | B11: < 500V | C11: 164.94 | D11: 128.15 | E11: R543.24 | F11: R288.90 | G11: R27.11
B12: ≥ 500V & ≤ 22kV | C12: 162.98 | D12: 126.70 | E12: R526.53 | F12: R278.80 | G12: R24.84

Sheet Search
B2: Tariff Type: | C2: Municflex
B3: Transmissison Zone: | C3: > 300km and ≤ 600km | D3: <---- Please select relavent options from the drop down lists
B4: Volatge: | C4: > 132kV*
B5: Customer Category: | C5: > 1 MVA
A7: POD | B7: TOU period | C7: Season | D7: Active energy charge | E7: Transmission network charge | F7: Network capacity charge | G7: Ancillary service charge | H7: Administration charge | I7: Reactive energy charge | J7: Urban low voltage subsidy charge | K7: Electrification and rural network subsidy charge | L7: Network demand charge | M7: Service charge | N7: Legacy charge | O7: Generation Capacity Charge
C8: Unit: | D8: c/kWh | E8: R/KVA/month (MD) | F8: R/KVA/month (MD) | G8: c/kWh | H8: R/POD/day | I8: c/KVArh | J8: R/KVA/month (MD) | K8: c/kWh | L8: R/KVA/month (MD) | M8: R/account/day | N8: c/kWh | O8: R/KVA/month (MD)
B10: OffPeak | C10: High Season | D10: {=_xlfn.XLOOKUP($C$2&$C$3&$C$4&$C$5,'Eskom Rate Matrix'!$A$2:$A$81,_xlfn.XLOOKUP(LEFT($C10,1)&SUBSTITUTE($B10,"OffPeak","Off Peak"),'Eskom Rate Matrix'!$A$1:$Z$1,'Eskom Rate Matrix'!$A$2:$Z$81))} -> 106.79
B11: Standard | C11: High Season | D11: {=_xlfn.XLOOKUP($C$2&$C$3&$C$4&$C$5,'Eskom Rate Matrix'!$A$2:$A$81,_xlfn.XLOOKUP(LEFT($C11,1)&SUBSTITUTE($B11,"OffPeak","Off Peak"),'Eskom Rate Matrix'!$A$1:$Z$1,'Eskom Rate Matrix'!$A$2:$Z$81))} -> 160.19
B12: Peak | C12: High Season | D12: {=_xlfn.XLOOKUP($C$2&$C$3&$C$4&$C$5,'Eskom Rate Matrix'!$A$2:$A$81,_xlfn.XLOOKUP(LEFT($C12,1)&SUBSTITUTE($B12,"OffPeak","Off Peak"),'Eskom Rate Matrix'!$A$1:$Z$1,'Eskom Rate Matrix'!$A$2:$Z$81))} -> 640.77
B13: All | C13: High Season | E13: {=_xlfn.XLOOKUP($C$2&$C$3&$C$4&$C$5,'Eskom Rate Matrix'!$A$2:$A$81,IFERROR(_xlfn.XLOOKUP(E$7&"*"&LEFT($C13,FIND(" ",$C13)-1)&"*",'Eskom Rate Matrix'!$A$1:$Z$1,'Eskom Rate Matrix'!$A$2:$Z$81,,2),_xlfn.XLOOKUP(E$7&"*",'Eskom Rate Matrix'!$A$1:$Z$1,'Eskom Rate Matrix'!$A$2:$Z$81,,2)))} -> 18.27 | F13: {=_xlfn.XLOOKUP($C$2&$C$3&$C$4&$C$5,'Eskom Rate Matrix'!$A$2:$A$81,IFERROR(_xlfn.XLOOKUP(F$7&"*"&LEFT($C13,FIND(" ",$C13)-1)&"*",'Eskom Rate Matrix'!$A$1:$Z$1,'Eskom Rate Matrix'!$A$2:$Z$81,,2),_xlfn.XLOOKUP(F$7&"*",'Eskom Rate Matrix'!$A$1:$Z$1,'Eskom Rate Matrix'!$A$2:$Z$81,,2)))} -> 0 | G13: {=_xlfn.XLOOKUP($C$2&$C$3&$C$4&$C$5,'Eskom Rate Matrix'!$A$2:$A$81,IFERROR(_xlfn.XLOOKUP(G$7&"*"&LEFT($C13,FIND(" ",$C13)-1)&"*",'Eskom Rate Matrix'!$A$1:$Z$1,'Eskom Rate Matrix'!$A$2:$Z$81,,2),_xlfn.XLOOKUP(G$7&"*",'Eskom Rate Matrix'!$A$1:$Z$1,'Eskom Rate Matrix'!$A$2:$Z$81,,2)))} -> 0.38 | H13: {=_xlfn.XLOOKUP($C$2&$C$3&$C$4&$C$5,'Eskom Rate Matrix'!$A$2:$A$81,IFERROR(_xlfn.XLOOKUP(H$7&"*"&LEFT($C13,FIND(" ",$C13)-1)&"*",'Eskom Rate Matrix'!$A$1:$Z$1,'Eskom Rate Matrix'!$A$2:$Z$81,,2),_xlfn.XLOOKUP(H$7&"*",'Eskom Rate Matrix'!$A$1:$Z$1,'Eskom Rate Matrix'!$A$2:$Z$81,,2)))} -> 21.44 | I13: {=_xlfn.XLOOKUP($C$2&$C$3&$C$4&$C$5,'Eskom Rate Matrix'!$A$2:$A$81,IFERROR(_xlfn.XLOOKUP(I$7&"*"&LEFT($C13,FIND(" ",$C13)-1)&"*",'Eskom Rate Matrix'!$A$1:$Z$1,'Eskom Rate Matrix'!$A$2:$Z$81,,2),_xlfn.XLOOKUP(I$7&"*",'Eskom Rate Matrix'!$A$1:$Z$1,'Eskom Rate Matrix'!$A$2:$Z$81,,2)))} -> 35.1 | J13: {=_xlfn.XLOOKUP($C$2&$C$3&$C$4&$C$5,'Eskom Rate Matrix'!$A$2:$A$81,IFERROR(_xlfn.XLOOKUP(J$7&"*"&LEFT($C13,FIND(" ",$C13)-1)&"*",'Eskom Rate Matrix'!$A$1:$Z$1,'Eskom Rate Matrix'!$A$2:$Z$81,,2),_xlfn.XLOOKUP(J$7&"*",'Eskom Rate Matrix'!$A$1:$Z$1,'Eskom Rate Matrix'!$A$2:$Z$81,,2)))} -> 2.43 | K13: {=_xlfn.XLOOKUP($C$2&$C$3&$C$4&$C$5,'Eskom Rate Matrix'!$A$2:$A$81,IFERROR(_xlfn.XLOOKUP(K$7&"*"&LEFT($C13,FIND(" ",$C13)-1)&"*",'Eskom Rate Matrix'!$A$1:$Z$1,'Eskom Rate Matrix'!$A$2:$Z$81,,2),_xlfn.XLOOKUP(K$7&"*",'Eskom Rate Matrix'!$A$1:$Z$1,'Eskom Rate Matrix'!$A$2:$Z$81,,2)))} -> 5.47 | L13: {=_xlfn.XLOOKUP($C$2&$C$3&$C$4&$C$5,'Eskom Rate Matrix'!$A$2:$A$81,IFERROR(_xlfn.XLOOKUP(L$7&"*"&LEFT($C13,FIND(" ",$C13)-1)&"*",'Eskom Rate Matrix'!$A$1:$Z$1,'Eskom Rate Matrix'!$A$2:$Z$81,,2),_xlfn.XLOOKUP(L$7&"*",'Eskom Rate Matrix'!$A$1:$Z$1,'Eskom Rate Matrix'!$A$2:$Z$81,,2)))} -> 0 | ... O13: {=_xlfn.XLOOKUP($C$2&$C$3&$C$4&$C$5,'Eskom Rate Matrix'!$A$2:$A$81,IFERROR(_xlfn.XLOOKUP(O$7&"*"&LEFT($C13,FIND(" ",$C13)-1)&"*",'Eskom Rate Matrix'!$A$1:$Z$1,'Eskom Rate Matrix'!$A$2:$Z$81,,2),_xlfn.XLOOKUP(O$7&"*",'Eskom Rate Matrix'!$A$1:$Z$1,'Eskom Rate Matrix'!$A$2:$Z$81,,2)))} -> 10.85
B15: OffPeak | C15: Low Season | D15: {=_xlfn.XLOOKUP($C$2&$C$3&$C$4&$C$5,'Eskom Rate Matrix'!$A$2:$A$81,_xlfn.XLOOKUP(LEFT($C15,1)&SUBSTITUTE($B15,"OffPeak","Off Peak"),'Eskom Rate Matrix'!$A$1:$Z$1,'Eskom Rate Matrix'!$A$2:$Z$81))} -> 106.79
B16: Standard | C16: Low Season | D16: {=_xlfn.XLOOKUP($C$2&$C$3&$C$4&$C$5,'Eskom Rate Matrix'!$A$2:$A$81,_xlfn.XLOOKUP(LEFT($C16,1)&SUBSTITUTE($B16,"OffPeak","Off Peak"),'Eskom Rate Matrix'!$A$1:$Z$1,'Eskom Rate Matrix'!$A$2:$Z$81))} -> 149.52
B17: Peak | C17: Low Season | D17: {=_xlfn.XLOOKUP($C$2&$C$3&$C$4&$C$5,'Eskom Rate Matrix'!$A$2:$A$81,_xlfn.XLOOKUP(LEFT($C17,1)&SUBSTITUTE($B17,"OffPeak","Off Peak"),'Eskom Rate Matrix'!$A$1:$Z$1,'Eskom Rate Matrix'!$A$2:$Z$81))} -> 265.92
B18: All | C18: Low Season | E18: {=_xlfn.XLOOKUP($C$2&$C$3&$C$4&$C$5,'Eskom Rate Matrix'!$A$2:$A$81,IFERROR(_xlfn.XLOOKUP(E$7&"*"&LEFT($C18,FIND(" ",$C18)-1)&"*",'Eskom Rate Matrix'!$A$1:$Z$1,'Eskom Rate Matrix'!$A$2:$Z$81,,2),_xlfn.XLOOKUP(E$7&"*",'Eskom Rate Matrix'!$A$1:$Z$1,'Eskom Rate Matrix'!$A$2:$Z$81,,2)))} -> 18.27 | F18: {=_xlfn.XLOOKUP($C$2&$C$3&$C$4&$C$5,'Eskom Rate Matrix'!$A$2:$A$81,IFERROR(_xlfn.XLOOKUP(F$7&"*"&LEFT($C18,FIND(" ",$C18)-1)&"*",'Eskom Rate Matrix'!$A$1:$Z$1,'Eskom Rate Matrix'!$A$2:$Z$81,,2),_xlfn.XLOOKUP(F$7&"*",'Eskom Rate Matrix'!$A$1:$Z$1,'Eskom Rate Matrix'!$A$2:$Z$81,,2)))} -> 0 | G18: {=_xlfn.XLOOKUP($C$2&$C$3&$C$4&$C$5,'Eskom Rate Matrix'!$A$2:$A$81,IFERROR(_xlfn.XLOOKUP(G$7&"*"&LEFT($C18,FIND(" ",$C18)-1)&"*",'Eskom Rate Matrix'!$A$1:$Z$1,'Eskom Rate Matrix'!$A$2:$Z$81,,2),_xlfn.XLOOKUP(G$7&"*",'Eskom Rate Matrix'!$A$1:$Z$1,'Eskom Rate Matrix'!$A$2:$Z$81,,2)))} -> 0.38 | H18: {=_xlfn.XLOOKUP($C$2&$C$3&$C$4&$C$5,'Eskom Rate Matrix'!$A$2:$A$81,IFERROR(_xlfn.XLOOKUP(H$7&"*"&LEFT($C18,FIND(" ",$C18)-1)&"*",'Eskom Rate Matrix'!$A$1:$Z$1,'Eskom Rate Matrix'!$A$2:$Z$81,,2),_xlfn.XLOOKUP(H$7&"*",'Eskom Rate Matrix'!$A$1:$Z$1,'Eskom Rate Matrix'!$A$2:$Z$81,,2)))} -> 21.44 | I18: {=_xlfn.XLOOKUP($C$2&$C$3&$C$4&$C$5,'Eskom Rate Matrix'!$A$2:$A$81,IFERROR(_xlfn.XLOOKUP(I$7&"*"&LEFT($C18,FIND(" ",$C18)-1)&"*",'Eskom Rate Matrix'!$A$1:$Z$1,'Eskom Rate Matrix'!$A$2:$Z$81,,2),_xlfn.XLOOKUP(I$7&"*",'Eskom Rate Matrix'!$A$1:$Z$1,'Eskom Rate Matrix'!$A$2:$Z$81,,2)))} -> 0 | J18: {=_xlfn.XLOOKUP($C$2&$C$3&$C$4&$C$5,'Eskom Rate Matrix'!$A$2:$A$81,IFERROR(_xlfn.XLOOKUP(J$7&"*"&LEFT($C18,FIND(" ",$C18)-1)&"*",'Eskom Rate Matrix'!$A$1:$Z$1,'Eskom Rate Matrix'!$A$2:$Z$81,,2),_xlfn.XLOOKUP(J$7&"*",'Eskom Rate Matrix'!$A$1:$Z$1,'Eskom Rate Matrix'!$A$2:$Z$81,,2)))} -> 2.43 | K18: {=_xlfn.XLOOKUP($C$2&$C$3&$C$4&$C$5,'Eskom Rate Matrix'!$A$2:$A$81,IFERROR(_xlfn.XLOOKUP(K$7&"*"&LEFT($C18,FIND(" ",$C18)-1)&"*",'Eskom Rate Matrix'!$A$1:$Z$1,'Eskom Rate Matrix'!$A$2:$Z$81,,2),_xlfn.XLOOKUP(K$7&"*",'Eskom Rate Matrix'!$A$1:$Z$1,'Eskom Rate Matrix'!$A$2:$Z$81,,2)))} -> 5.47 | L18: {=_xlfn.XLOOKUP($C$2&$C$3&$C$4&$C$5,'Eskom Rate Matrix'!$A$2:$A$81,IFERROR(_xlfn.XLOOKUP(L$7&"*"&LEFT($C18,FIND(" ",$C18)-1)&"*",'Eskom Rate Matrix'!$A$1:$Z$1,'Eskom Rate Matrix'!$A$2:$Z$81,,2),_xlfn.XLOOKUP(L$7&"*",'Eskom Rate Matrix'!$A$1:$Z$1,'Eskom Rate Matrix'!$A$2:$Z$81,,2)))} -> 0 | ... O18: {=_xlfn.XLOOKUP($C$2&$C$3&$C$4&$C$5,'Eskom Rate Matrix'!$A$2:$A$81,IFERROR(_xlfn.XLOOKUP(O$7&"*"&LEFT($C18,FIND(" ",$C18)-1)&"*",'Eskom Rate Matrix'!$A$1:$Z$1,'Eskom Rate Matrix'!$A$2:$Z$81,,2),_xlfn.XLOOKUP(O$7&"*",'Eskom Rate Matrix'!$A$1:$Z$1,'Eskom Rate Matrix'!$A$2:$Z$81,,2)))} -> 10.85

Sheet NightSave UrbanL - Service & Ad
A1: Customer categories | B1: Service charge [R/account/day] | C1: Administration charge [R/POD/day]
B2: Service charge [R/account/day] | C2: Administration charge [R/POD/day]
A3: Customer categories
A4: MVA | B4: R402.32 | C4: R181.34
A5: Key customers | B5: R7 883.85 | C5: R251.77

Sheet Nightsave UrbanL - Ancillary
A1: Voltage | B1: Ancillary service charge [c/kWh]
B2: Ancillary service charge [c/kWh]
A3: Voltage
A4: < 500V | B4: 0.82
A5: ≥ 500V & < 66kV | B5: 0.80
A6: ≥ 66kV & ≤ 132kV | B6: 0.73
A7: > 132kV* | B7: 0.70

Sheet NightSave UrbanL - Network Char
A1: Voltage | B1: Column2 | C1: Column3 | D1: Column4 | E1: Column5 | F1: Column6 | G1: Column7
C2: Distribution network charges
C3: Network capacity charge [R/kVA/m] | D3: Network demand charge [R/kVA/m] | F3: Urban low voltage subsidy charge [R/kVA/m]
A4: Voltage | C4: VAT incl | E4: VAT incl | G4: VAT incl
A5: < 500V | B5: R35.24 | C5: R40.53 | D5: R66.75 | E5: R76.76 | F5: R0.00 | G5: R0.00
A6: ≥ 500V & < 66kV | B6: R32.29 | C6: R37.13 | D6: R61.22 | E6: R70.40 | F6: R0.00 | G6: R0.00
A7: ≥ 66kV & ≤ 132kV | B7: R11.55 | C7: R13.28 | D7: R21.37 | E7: R24.58 | F7: R28.29 | G7: R32.53
A8: > 132kV/ Transmission connected | B8: R0.00 | C8: R0.00 | D8: R0.00 | E8: R0.00 | F8: R28.29 | G8: R32.53

Sheet NightSave UrbanL - Energy
A1: Transmission zone | B1: Voltage | C1: Column3 | D1: Column5 | E1: Column7 | F1: Column8 | G1: Column9 | H1: Column11
C2: Active energy charge [c/kWh] | F2: Energy demand charge [R/kVA/m]
C3: High demand season Jun - Aug | D3: Low demand season Sep - May | F3: High demand season Jun - Aug | G3: Low demand season Sep - May | H3: Transmission network charges [R/kVA/m]
A4: Transmission zone | B4: Voltage | F4: VAT incl
A5: ≤ 300km | B5: < 500V | C5: 156.61 | D5: 121.77 | E5: 467.55 | F5: 537.68 | G5: 65.32 | H5: R17.67
B6: ≥ 500V & < 66kV | C6: 148.29 | D6: 115.75 | E6: 452.54 | F6: 520.42 | G6: 63.28 | H6: R16.12
B7: ≥ 66kV & ≤ 132kV | C7: 147.20 | D7: 114.33 | E7: 436.06 | F7: 501.47 | G7: 60.95 | H7: R15.68
B8: > 132kV* | C8: 137.71 | D8: 107.07 | E8: 420.66 | F8: 483.76 | G8: 58.76 | H8: R19.86
A9: > 300km and ≤ 600km | B9: < 500V | C9: 158.65 | D9: 123.09 | E9: 472.40 | F9: 543.26 | G9: 65.95 | H9: R17.74
B10: ≥ 500V & < 66kV | C10: 151.39 | D10: 118.09 | E10: 457.10 | F10: 525.67 | G10: 63.83 | H10: R16.31
B11: ≥ 66kV & ≤ 132kV | C11: 150.27 | D11: 116.72 | E11: 440.41 | F11: 506.47 | G11: 61.53 | H11: R15.81
B12: > 132kV* | C12: 140.54 | D12: 109.28 | E12: 424.92 | F12: 488.66 | G12: 59.34 | H12: R20.05
A13: > 600km and ≤ 900km | B13: < 500V | C13: 160.16 | D13: 124.24 | E13: 477.18 | F13: 548.76 | G13: 66.66 | H13: R17.98
B14: ≥ 500V & < 66kV | C14: 152.92 | D14: 119.31 | E14: 461.76 | F14: 531.02 | G14: 64.52 | H14: R16.40
B15: ≥ 66kV & ≤ 132kV | C15: 151.77 | D15: 117.88 | E15: 444.84 | F15: 511.57 | G15: 62.13 | H15: R15.94
B16: > 132kV* | C16: 141.96 | D16: 110.38 | E16: 429.22 | F16: 493.60 | G16: 59.98 | H16: R20.32
A17: > 900km | B17: < 500V | C17: 161.88 | D17: 125.50 | E17: 481.88 | F17: 554.16 | G17: 67.32 | H17: R18.06
B18: ≥ 500V & < 66kV | C18: 154.44 | D18: 120.45 | E18: 466.37 | F18: 536.33 | G18: 65.10 | H18: R16.59
B19: ≥ 66kV & ≤ 132kV | C19: 153.29 | D19: 119.01 | E19: 449.34 | F19: 516.74 | G19: 62.80 | H19: R16.05
B20: > 132kV* | C20: 143.52 | D20: 111.60 | E20: 433.53 | F20: 498.56 | G20: 60.52 | H20: R20.45

Sheet Eskom Rate Matrix
A1: Key | B1: Tariff | C1: Transmission zone | D1: Voltage | E1: Customer category | F1: HPeak | G1: HStandard | H1: HOff Peak | I1: LPeak | J1: LStandard | K1: LOff Peak | L1: Legacy charge [c/kWh] | M1: Generation capacity charge [R/kVA/m] | N1: Transmission network charges [R/kVA/m] | O1: Ancillary service charge [c/kWh] | P1: Network capacity charge [R/kVA/m] | Q1: Network demand charge [R/kVA/m] | R1: Urban low voltage subsidy charge [R/kVA/m] | S1: Service charge [R/account/day] | T1: Administration charge [R/POD/day] | U1: Electrification and rural network subsidy charge [c/kWh] | V1: Reactive energy charge - High [c/kVArh] | W1: Reactive energy charge - Low [c/kVArh] | X1: Src energy row | Y1: Src voltage idx | Z1: Src category idx
A2: =Table5[[#This Row],[Tariff]]&Table5[[#This Row],[Transmission zone]]&Table5[[#This Row],[Voltage]]&Table5[[#This Row],[Customer category]] -> Municflex≤ 300km< 500V≤ 100 kVA | B2: Municflex | C2: ≤ 300km | D2: < 500V | E2: ≤ 100 kVA | F2: {=INDEX('MunicFlex 26-27'!D$7:D$22,Table5[[#This Row],[Src energy row]])} -> 754.92 | G2: {=INDEX('MunicFlex 26-27'!F$7:F$22,Table5[[#This Row],[Src energy row]])} -> 188.7 | H2: {=INDEX('MunicFlex 26-27'!H$7:H$22,Table5[[#This Row],[Src energy row]])} -> 125.84 | I2: {=INDEX('MunicFlex 26-27'!J$7:J$22,Table5[[#This Row],[Src energy row]])} -> 313.35 | J2: {=INDEX('MunicFlex 26-27'!L$7:L$22,Table5[[#This Row],[Src energy row]])} -> 176.16 | K2: {=INDEX('MunicFlex 26-27'!N$7:N$22,Table5[[#This Row],[Src energy row]])} -> 125.89 | L2: {=INDEX('MunicFlex 26-27'!P$7:P$22,Table5[[#This Row],[Src energy row]])} -> 25.31 | M2: {=INDEX('MunicFlex 26-27'!R$7:R$22,Table5[[#This Row],[Src energy row]])} -> 5.06 | N2: {=INDEX('MunicFlex 26-27'!T$7:T$22,Table5[[#This Row],[Src energy row]])} -> 11.83 | O2: {=INDEX('MunicFlex 26-27'!M$29:M$32,Table5[[#This Row],[Src voltage idx]])} -> 0.45 | P2: {=INDEX('MunicFlex 26-27'!D$29:D$32,Table5[[#This Row],[Src voltage idx]])} -> 43.99 | Q2: {=INDEX('MunicFlex 26-27'!F$29:F$32,Table5[[#This Row],[Src voltage idx]])} -> 53.58 | R2: {=INDEX('MunicFlex 26-27'!H$29:H$32,Table5[[#This Row],[Src voltage idx]])} -> 0 | S2: {=INDEX('MunicFlex 26-27'!D$38:D$42,Table5[[#This Row],[Src category idx]])} -> 15.22 | T2: {=INDEX('MunicFlex 26-27'!F$38:F$42,Table5[[#This Row],[Src category idx]])} -> 0.82 | U2: ='MunicFlex 26-27'!$B$52 -> 5.47 | V2: ='MunicFlex 26-27'!$K$38 -> 35.1 | W2: ='MunicFlex 26-27'!$M$38 -> 0 | X2: {=MATCH(Table5[[#This Row],[Transmission zone]],SUBSTITUTE('MunicFlex 26-27'!$B$7:$B$22,CHAR(10),""),0)+MATCH(Table5[[#This Row],[Voltage]],'MunicFlex 26-27'!$C$7:$C$10,0)-1} -> 1 | Y2: =MATCH(Table5[[#This Row],[Voltage]],'MunicFlex 26-27'!$B$29:$B$32,0) -> 1 | Z2: =MATCH(Table5[[#This Row],[Customer category]],'MunicFlex 26-27'!$B$38:$B$42,0) -> 1
A3: =Table5[[#This Row],[Tariff]]&Table5[[#This Row],[Transmission zone]]&Table5[[#This Row],[Voltage]]&Table5[[#This Row],[Customer category]] -> Municflex≤ 300km< 500V> 100 kVA & ≤ 500 kVA | B3: Municflex | C3: ≤ 300km | D3: < 500V | E3: > 100 kVA & ≤ 500 kVA | F3: {=INDEX('MunicFlex 26-27'!D$7:D$22,Table5[[#This Row],[Src energy row]])} -> 754.92 | G3: {=INDEX('MunicFlex 26-27'!F$7:F$22,Table5[[#This Row],[Src energy row]])} -> 188.7 | H3: {=INDEX('MunicFlex 26-27'!H$7:H$22,Table5[[#This Row],[Src energy row]])} -> 125.84 | I3: {=INDEX('MunicFlex 26-27'!J$7:J$22,Table5[[#This Row],[Src energy row]])} -> 313.35 | J3: {=INDEX('MunicFlex 26-27'!L$7:L$22,Table5[[#This Row],[Src energy row]])} -> 176.16 | K3: {=INDEX('MunicFlex 26-27'!N$7:N$22,Table5[[#This Row],[Src energy row]])} -> 125.89 | L3: {=INDEX('MunicFlex 26-27'!P$7:P$22,Table5[[#This Row],[Src energy row]])} -> 25.31 | M3: {=INDEX('MunicFlex 26-27'!R$7:R$22,Table5[[#This Row],[Src energy row]])} -> 5.06 | N3: {=INDEX('MunicFlex 26-27'!T$7:T$22,Table5[[#This Row],[Src energy row]])} -> 11.83 | O3: {=INDEX('MunicFlex 26-27'!M$29:M$32,Table5[[#This Row],[Src voltage idx]])} -> 0.45 | P3: {=INDEX('MunicFlex 26-27'!D$29:D$32,Table5[[#This Row],[Src voltage idx]])} -> 43.99 | Q3: {=INDEX('MunicFlex 26-27'!F$29:F$32,Table5[[#This Row],[Src voltage idx]])} -> 53.58 | R3: {=INDEX('MunicFlex 26-27'!H$29:H$32,Table5[[#This Row],[Src voltage idx]])} -> 0 | S3: {=INDEX('MunicFlex 26-27'!D$38:D$42,Table5[[#This Row],[Src category idx]])} -> 71.17 | T3: {=INDEX('MunicFlex 26-27'!F$38:F$42,Table5[[#This Row],[Src category idx]])} -> 13.72 | U3: ='MunicFlex 26-27'!$B$52 -> 5.47 | V3: ='MunicFlex 26-27'!$K$38 -> 35.1 | W3: ='MunicFlex 26-27'!$M$38 -> 0 | X3: {=MATCH(Table5[[#This Row],[Transmission zone]],SUBSTITUTE('MunicFlex 26-27'!$B$7:$B$22,CHAR(10),""),0)+MATCH(Table5[[#This Row],[Voltage]],'MunicFlex 26-27'!$C$7:$C$10,0)-1} -> 1 | Y3: =MATCH(Table5[[#This Row],[Voltage]],'MunicFlex 26-27'!$B$29:$B$32,0) -> 1 | Z3: =MATCH(Table5[[#This Row],[Customer category]],'MunicFlex 26-27'!$B$38:$B$42,0) -> 2
A4: =Table5[[#This Row],[Tariff]]&Table5[[#This Row],[Transmission zone]]&Table5[[#This Row],[Voltage]]&Table5[[#This Row],[Customer category]] -> Municflex≤ 300km< 500V> 500 kVA & ≤ 1 MVA | B4: Municflex | C4: ≤ 300km | D4: < 500V | E4: > 500 kVA & ≤ 1 MVA | F4: {=INDEX('MunicFlex 26-27'!D$7:D$22,Table5[[#This Row],[Src energy row]])} -> 754.92 | G4: {=INDEX('MunicFlex 26-27'!F$7:F$22,Table5[[#This Row],[Src energy row]])} -> 188.7 | H4: {=INDEX('MunicFlex 26-27'!H$7:H$22,Table5[[#This Row],[Src energy row]])} -> 125.84 | I4: {=INDEX('MunicFlex 26-27'!J$7:J$22,Table5[[#This Row],[Src energy row]])} -> 313.35 | J4: {=INDEX('MunicFlex 26-27'!L$7:L$22,Table5[[#This Row],[Src energy row]])} -> 176.16 | K4: {=INDEX('MunicFlex 26-27'!N$7:N$22,Table5[[#This Row],[Src energy row]])} -> 125.89 | L4: {=INDEX('MunicFlex 26-27'!P$7:P$22,Table5[[#This Row],[Src energy row]])} -> 25.31 | M4: {=INDEX('MunicFlex 26-27'!R$7:R$22,Table5[[#This Row],[Src energy row]])} -> 5.06 | N4: {=INDEX('MunicFlex 26-27'!T$7:T$22,Table5[[#This Row],[Src energy row]])} -> 11.83 | O4: {=INDEX('MunicFlex 26-27'!M$29:M$32,Table5[[#This Row],[Src voltage idx]])} -> 0.45 | P4: {=INDEX('MunicFlex 26-27'!D$29:D$32,Table5[[#This Row],[Src voltage idx]])} -> 43.99 | Q4: {=INDEX('MunicFlex 26-27'!F$29:F$32,Table5[[#This Row],[Src voltage idx]])} -> 53.58 | R4: {=INDEX('MunicFlex 26-27'!H$29:H$32,Table5[[#This Row],[Src voltage idx]])} -> 0 | S4: {=INDEX('MunicFlex 26-27'!D$38:D$42,Table5[[#This Row],[Src category idx]])} -> 219.79 | T4: {=INDEX('MunicFlex 26-27'!F$38:F$42,Table5[[#This Row],[Src category idx]])} -> 21.44 | U4: ='MunicFlex 26-27'!$B$52 -> 5.47 | V4: ='MunicFlex 26-27'!$K$38 -> 35.1 | W4: ='MunicFlex 26-27'!$M$38 -> 0 | X4: {=MATCH(Table5[[#This Row],[Transmission zone]],SUBSTITUTE('MunicFlex 26-27'!$B$7:$B$22,CHAR(10),""),0)+MATCH(Table5[[#This Row],[Voltage]],'MunicFlex 26-27'!$C$7:$C$10,0)-1} -> 1 | Y4: =MATCH(Table5[[#This Row],[Voltage]],'MunicFlex 26-27'!$B$29:$B$32,0) -> 1 | Z4: =MATCH(Table5[[#This Row],[Customer category]],'MunicFlex 26-27'!$B$38:$B$42,0) -> 3
A5: =Table5[[#This Row],[Tariff]]&Table5[[#This Row],[Transmission zone]]&Table5[[#This Row],[Voltage]]&Table5[[#This Row],[Customer category]] -> Municflex≤ 300km< 500V> 1 MVA | B5: Municflex | C5: ≤ 300km | D5: < 500V | E5: > 1 MVA | F5: {=INDEX('MunicFlex 26-27'!D$7:D$22,Table5[[#This Row],[Src energy row]])} -> 754.92 | G5: {=INDEX('MunicFlex 26-27'!F$7:F$22,Table5[[#This Row],[Src energy row]])} -> 188.7 | H5: {=INDEX('MunicFlex 26-27'!H$7:H$22,Table5[[#This Row],[Src energy row]])} -> 125.84 | I5: {=INDEX('MunicFlex 26-27'!J$7:J$22,Table5[[#This Row],[Src energy row]])} -> 313.35 | J5: {=INDEX('MunicFlex 26-27'!L$7:L$22,Table5[[#This Row],[Src energy row]])} -> 176.16 | K5: {=INDEX('MunicFlex 26-27'!N$7:N$22,Table5[[#This Row],[Src energy row]])} -> 125.89 | L5: {=INDEX('MunicFlex 26-27'!P$7:P$22,Table5[[#This Row],[Src energy row]])} -> 25.31 | M5: {=INDEX('MunicFlex 26-27'!R$7:R$22,Table5[[#This Row],[Src energy row]])} -> 5.06 | N5: {=INDEX('MunicFlex 26-27'!T$7:T$22,Table5[[#This Row],[Src energy row]])} -> 11.83 | O5: {=INDEX('MunicFlex 26-27'!M$29:M$32,Table5[[#This Row],[Src voltage idx]])} -> 0.45 | P5: {=INDEX('MunicFlex 26-27'!D$29:D$32,Table5[[#This Row],[Src voltage idx]])} -> 43.99 | Q5: {=INDEX('MunicFlex 26-27'!F$29:F$32,Table5[[#This Row],[Src voltage idx]])} -> 53.58 | R5: {=INDEX('MunicFlex 26-27'!H$29:H$32,Table5[[#This Row],[Src voltage idx]])} -> 0 | S5: {=INDEX('MunicFlex 26-27'!D$38:D$42,Table5[[#This Row],[Src category idx]])} -> 219.79 | T5: {=INDEX('MunicFlex 26-27'!F$38:F$42,Table5[[#This Row],[Src category idx]])} -> 21.44 | U5: ='MunicFlex 26-27'!$B$52 -> 5.47 | V5: ='MunicFlex 26-27'!$K$38 -> 35.1 | W5: ='MunicFlex 26-27'!$M$38 -> 0 | X5: {=MATCH(Table5[[#This Row],[Transmission zone]],SUBSTITUTE('MunicFlex 26-27'!$B$7:$B$22,CHAR(10),""),0)+MATCH(Table5[[#This Row],[Voltage]],'MunicFlex 26-27'!$C$7:$C$10,0)-1} -> 1 | Y5: =MATCH(Table5[[#This Row],[Voltage]],'MunicFlex 26-27'!$B$29:$B$32,0) -> 1 | Z5: =MATCH(Table5[[#This Row],[Customer category]],'MunicFlex 26-27'!$B$38:$B$42,0) -> 4
A6: =Table5[[#This Row],[Tariff]]&Table5[[#This Row],[Transmission zone]]&Table5[[#This Row],[Voltage]]&Table5[[#This Row],[Customer category]] -> Municflex≤ 300km< 500VKey customers | B6: Municflex | C6: ≤ 300km | D6: < 500V | E6: Key customers | F6: {=INDEX('MunicFlex 26-27'!D$7:D$22,Table5[[#This Row],[Src energy row]])} -> 754.92 | G6: {=INDEX('MunicFlex 26-27'!F$7:F$22,Table5[[#This Row],[Src energy row]])} -> 188.7 | H6: {=INDEX('MunicFlex 26-27'!H$7:H$22,Table5[[#This Row],[Src energy row]])} -> 125.84 | I6: {=INDEX('MunicFlex 26-27'!J$7:J$22,Table5[[#This Row],[Src energy row]])} -> 313.35 | J6: {=INDEX('MunicFlex 26-27'!L$7:L$22,Table5[[#This Row],[Src energy row]])} -> 176.16 | K6: {=INDEX('MunicFlex 26-27'!N$7:N$22,Table5[[#This Row],[Src energy row]])} -> 125.89 | L6: {=INDEX('MunicFlex 26-27'!P$7:P$22,Table5[[#This Row],[Src energy row]])} -> 25.31 | M6: {=INDEX('MunicFlex 26-27'!R$7:R$22,Table5[[#This Row],[Src energy row]])} -> 5.06 | N6: {=INDEX('MunicFlex 26-27'!T$7:T$22,Table5[[#This Row],[Src energy row]])} -> 11.83 | O6: {=INDEX('MunicFlex 26-27'!M$29:M$32,Table5[[#This Row],[Src voltage idx]])} -> 0.45 | P6: {=INDEX('MunicFlex 26-27'!D$29:D$32,Table5[[#This Row],[Src voltage idx]])} -> 43.99 | Q6: {=INDEX('MunicFlex 26-27'!F$29:F$32,Table5[[#This Row],[Src voltage idx]])} -> 53.58 | R6: {=INDEX('MunicFlex 26-27'!H$29:H$32,Table5[[#This Row],[Src voltage idx]])} -> 0 | S6: {=INDEX('MunicFlex 26-27'!D$38:D$42,Table5[[#This Row],[Src category idx]])} -> 1238.27 | T6: {=INDEX('MunicFlex 26-27'!F$38:F$42,Table5[[#This Row],[Src category idx]])} -> 21.44 | U6: ='MunicFlex 26-27'!$B$52 -> 5.47 | V6: ='MunicFlex 26-27'!$K$38 -> 35.1 | W6: ='MunicFlex 26-27'!$M$38 -> 0 | X6: {=MATCH(Table5[[#This Row],[Transmission zone]],SUBSTITUTE('MunicFlex 26-27'!$B$7:$B$22,CHAR(10),""),0)+MATCH(Table5[[#This Row],[Voltage]],'MunicFlex 26-27'!$C$7:$C$10,0)-1} -> 1 | Y6: =MATCH(Table5[[#This Row],[Voltage]],'MunicFlex 26-27'!$B$29:$B$32,0) -> 1 | Z6: =MATCH(Table5[[#This Row],[Customer category]],'MunicFlex 26-27'!$B$38:$B$42,0) -> 5
A7: =Table5[[#This Row],[Tariff]]&Table5[[#This Row],[Transmission zone]]&Table5[[#This Row],[Voltage]]&Table5[[#This Row],[Customer category]] -> Municflex≤ 300km> 132kV*≤ 100 kVA | B7: Municflex | C7: ≤ 300km | D7: > 132kV* | E7: ≤ 100 kVA | F7: {=INDEX('MunicFlex 26-27'!D$7:D$22,Table5[[#This Row],[Src energy row]])} -> 634.42 | G7: {=INDEX('MunicFlex 26-27'!F$7:F$22,Table5[[#This Row],[Src energy row]])} -> 158.61 | H7: {=INDEX('MunicFlex 26-27'!H$7:H$22,Table5[[#This Row],[Src energy row]])} -> 105.74 | I7: {=INDEX('MunicFlex 26-27'!J$7:J$22,Table5[[#This Row],[Src energy row]])} -> 263.3 | J7: {=INDEX('MunicFlex 26-27'!L$7:L$22,Table5[[#This Row],[Src energy row]])} -> 148.04 | K7: {=INDEX('MunicFlex 26-27'!N$7:N$22,Table5[[#This Row],[Src energy row]])} -> 105.74 | L7: {=INDEX('MunicFlex 26-27'!P$7:P$22,Table5[[#This Row],[Src energy row]])} -> 21.27 | M7: {=INDEX('MunicFlex 26-27'!R$7:R$22,Table5[[#This Row],[Src energy row]])} -> 10.85 | N7: {=INDEX('MunicFlex 26-27'!T$7:T$22,Table5[[#This Row],[Src energy row]])} -> 18.08 | O7: {=INDEX('MunicFlex 26-27'!M$29:M$32,Table5[[#This Row],[Src voltage idx]])} -> 0.38 | P7: {=INDEX('MunicFlex 26-27'!D$29:D$32,Table5[[#This Row],[Src voltage idx]])} -> 0 | Q7: {=INDEX('MunicFlex 26-27'!F$29:F$32,Table5[[#This Row],[Src voltage idx]])} -> 0 | R7: {=INDEX('MunicFlex 26-27'!H$29:H$32,Table5[[#This Row],[Src voltage idx]])} -> 2.43 | S7: {=INDEX('MunicFlex 26-27'!D$38:D$42,Table5[[#This Row],[Src category idx]])} -> 15.22 | T7: {=INDEX('MunicFlex 26-27'!F$38:F$42,Table5[[#This Row],[Src category idx]])} -> 0.82 | U7: ='MunicFlex 26-27'!$B$52 -> 5.47 | V7: ='MunicFlex 26-27'!$K$38 -> 35.1 | W7: ='MunicFlex 26-27'!$M$38 -> 0 | X7: {=MATCH(Table5[[#This Row],[Transmission zone]],SUBSTITUTE('MunicFlex 26-27'!$B$7:$B$22,CHAR(10),""),0)+MATCH(Table5[[#This Row],[Voltage]],'MunicFlex 26-27'!$C$7:$C$10,0)-1} -> 4 | Y7: =MATCH(Table5[[#This Row],[Voltage]],'MunicFlex 26-27'!$B$29:$B$32,0) -> 4 | Z7: =MATCH(Table5[[#This Row],[Customer category]],'MunicFlex 26-27'!$B$38:$B$42,0) -> 1
A8: =Table5[[#This Row],[Tariff]]&Table5[[#This Row],[Transmission zone]]&Table5[[#This Row],[Voltage]]&Table5[[#This Row],[Customer category]] -> Municflex≤ 300km> 132kV*> 100 kVA & ≤ 500 kVA | B8: Municflex | C8: ≤ 300km | D8: > 132kV* | E8: > 100 kVA & ≤ 500 kVA | F8: {=INDEX('MunicFlex 26-27'!D$7:D$22,Table5[[#This Row],[Src energy row]])} -> 634.42 | G8: {=INDEX('MunicFlex 26-27'!F$7:F$22,Table5[[#This Row],[Src energy row]])} -> 158.61 | H8: {=INDEX('MunicFlex 26-27'!H$7:H$22,Table5[[#This Row],[Src energy row]])} -> 105.74 | I8: {=INDEX('MunicFlex 26-27'!J$7:J$22,Table5[[#This Row],[Src energy row]])} -> 263.3 | J8: {=INDEX('MunicFlex 26-27'!L$7:L$22,Table5[[#This Row],[Src energy row]])} -> 148.04 | K8: {=INDEX('MunicFlex 26-27'!N$7:N$22,Table5[[#This Row],[Src energy row]])} -> 105.74 | L8: {=INDEX('MunicFlex 26-27'!P$7:P$22,Table5[[#This Row],[Src energy row]])} -> 21.27 | M8: {=INDEX('MunicFlex 26-27'!R$7:R$22,Table5[[#This Row],[Src energy row]])} -> 10.85 | N8: {=INDEX('MunicFlex 26-27'!T$7:T$22,Table5[[#This Row],[Src energy row]])} -> 18.08 | O8: {=INDEX('MunicFlex 26-27'!M$29:M$32,Table5[[#This Row],[Src voltage idx]])} -> 0.38 | P8: {=INDEX('MunicFlex 26-27'!D$29:D$32,Table5[[#This Row],[Src voltage idx]])} -> 0 | Q8: {=INDEX('MunicFlex 26-27'!F$29:F$32,Table5[[#This Row],[Src voltage idx]])} -> 0 | R8: {=INDEX('MunicFlex 26-27'!H$29:H$32,Table5[[#This Row],[Src voltage idx]])} -> 2.43 | S8: {=INDEX('MunicFlex 26-27'!D$38:D$42,Table5[[#This Row],[Src category idx]])} -> 71.17 | T8: {=INDEX('MunicFlex 26-27'!F$38:F$42,Table5[[#This Row],[Src category idx]])} -> 13.72 | U8: ='MunicFlex 26-27'!$B$52 -> 5.47 | V8: ='MunicFlex 26-27'!$K$38 -> 35.1 | W8: ='MunicFlex 26-27'!$M$38 -> 0 | X8: {=MATCH(Table5[[#This Row],[Transmission zone]],SUBSTITUTE('MunicFlex 26-27'!$B$7:$B$22,CHAR(10),""),0)+MATCH(Table5[[#This Row],[Voltage]],'MunicFlex 26-27'!$C$7:$C$10,0)-1} -> 4 | Y8: =MATCH(Table5[[#This Row],[Voltage]],'MunicFlex 26-27'!$B$29:$B$32,0) -> 4 | Z8: =MATCH(Table5[[#This Row],[Customer category]],'MunicFlex 26-27'!$B$38:$B$42,0) -> 2
A9: =Table5[[#This Row],[Tariff]]&Table5[[#This Row],[Transmission zone]]&Table5[[#This Row],[Voltage]]&Table5[[#This Row],[Customer category]] -> Municflex≤ 300km> 132kV*> 500 kVA & ≤ 1 MVA | B9: Municflex | C9: ≤ 300km | D9: > 132kV* | E9: > 500 kVA & ≤ 1 MVA | F9: {=INDEX('MunicFlex 26-27'!D$7:D$22,Table5[[#This Row],[Src energy row]])} -> 634.42 | G9: {=INDEX('MunicFlex 26-27'!F$7:F$22,Table5[[#This Row],[Src energy row]])} -> 158.61 | H9: {=INDEX('MunicFlex 26-27'!H$7:H$22,Table5[[#This Row],[Src energy row]])} -> 105.74 | I9: {=INDEX('MunicFlex 26-27'!J$7:J$22,Table5[[#This Row],[Src energy row]])} -> 263.3 | J9: {=INDEX('MunicFlex 26-27'!L$7:L$22,Table5[[#This Row],[Src energy row]])} -> 148.04 | K9: {=INDEX('MunicFlex 26-27'!N$7:N$22,Table5[[#This Row],[Src energy row]])} -> 105.74 | L9: {=INDEX('MunicFlex 26-27'!P$7:P$22,Table5[[#This Row],[Src energy row]])} -> 21.27 | M9: {=INDEX('MunicFlex 26-27'!R$7:R$22,Table5[[#This Row],[Src energy row]])} -> 10.85 | N9: {=INDEX('MunicFlex 26-27'!T$7:T$22,Table5[[#This Row],[Src energy row]])} -> 18.08 | O9: {=INDEX('MunicFlex 26-27'!M$29:M$32,Table5[[#This Row],[Src voltage idx]])} -> 0.38 | P9: {=INDEX('MunicFlex 26-27'!D$29:D$32,Table5[[#This Row],[Src voltage idx]])} -> 0 | Q9: {=INDEX('MunicFlex 26-27'!F$29:F$32,Table5[[#This Row],[Src voltage idx]])} -> 0 | R9: {=INDEX('MunicFlex 26-27'!H$29:H$32,Table5[[#This Row],[Src voltage idx]])} -> 2.43 | S9: {=INDEX('MunicFlex 26-27'!D$38:D$42,Table5[[#This Row],[Src category idx]])} -> 219.79 | T9: {=INDEX('MunicFlex 26-27'!F$38:F$42,Table5[[#This Row],[Src category idx]])} -> 21.44 | U9: ='MunicFlex 26-27'!$B$52 -> 5.47 | V9: ='MunicFlex 26-27'!$K$38 -> 35.1 | W9: ='MunicFlex 26-27'!$M$38 -> 0 | X9: {=MATCH(Table5[[#This Row],[Transmission zone]],SUBSTITUTE('MunicFlex 26-27'!$B$7:$B$22,CHAR(10),""),0)+MATCH(Table5[[#This Row],[Voltage]],'MunicFlex 26-27'!$C$7:$C$10,0)-1} -> 4 | Y9: =MATCH(Table5[[#This Row],[Voltage]],'MunicFlex 26-27'!$B$29:$B$32,0) -> 4 | Z9: =MATCH(Table5[[#This Row],[Customer category]],'MunicFlex 26-27'!$B$38:$B$42,0) -> 3
A10: =Table5[[#This Row],[Tariff]]&Table5[[#This Row],[Transmission zone]]&Table5[[#This Row],[Voltage]]&Table5[[#This Row],[Customer category]] -> Municflex≤ 300km> 132kV*> 1 MVA | B10: Municflex | C10: ≤ 300km | D10: > 132kV* | E10: > 1 MVA | F10: {=INDEX('MunicFlex 26-27'!D$7:D$22,Table5[[#This Row],[Src energy row]])} -> 634.42 | G10: {=INDEX('MunicFlex 26-27'!F$7:F$22,Table5[[#This Row],[Src energy row]])} -> 158.61 | H10: {=INDEX('MunicFlex 26-27'!H$7:H$22,Table5[[#This Row],[Src energy row]])} -> 105.74 | I10: {=INDEX('MunicFlex 26-27'!J$7:J$22,Table5[[#This Row],[Src energy row]])} -> 263.3 | J10: {=INDEX('MunicFlex 26-27'!L$7:L$22,Table5[[#This Row],[Src energy row]])} -> 148.04 | K10: {=INDEX('MunicFlex 26-27'!N$7:N$22,Table5[[#This Row],[Src energy row]])} -> 105.74 | L10: {=INDEX('MunicFlex 26-27'!P$7:P$22,Table5[[#This Row],[Src energy row]])} -> 21.27 | M10: {=INDEX('MunicFlex 26-27'!R$7:R$22,Table5[[#This Row],[Src energy row]])} -> 10.85 | N10: {=INDEX('MunicFlex 26-27'!T$7:T$22,Table5[[#This Row],[Src energy row]])} -> 18.08 | O10: {=INDEX('MunicFlex 26-27'!M$29:M$32,Table5[[#This Row],[Src voltage idx]])} -> 0.38 | P10: {=INDEX('MunicFlex 26-27'!D$29:D$32,Table5[[#This Row],[Src voltage idx]])} -> 0 | Q10: {=INDEX('MunicFlex 26-27'!F$29:F$32,Table5[[#This Row],[Src voltage idx]])} -> 0 | R10: {=INDEX('MunicFlex 26-27'!H$29:H$32,Table5[[#This Row],[Src voltage idx]])} -> 2.43 | S10: {=INDEX('MunicFlex 26-27'!D$38:D$42,Table5[[#This Row],[Src category idx]])} -> 219.79 | T10: {=INDEX('MunicFlex 26-27'!F$38:F$42,Table5[[#This Row],[Src category idx]])} -> 21.44 | U10: ='MunicFlex 26-27'!$B$52 -> 5.47 | V10: ='MunicFlex 26-27'!$K$38 -> 35.1 | W10: ='MunicFlex 26-27'!$M$38 -> 0 | X10: {=MATCH(Table5[[#This Row],[Transmission zone]],SUBSTITUTE('MunicFlex 26-27'!$B$7:$B$22,CHAR(10),""),0)+MATCH(Table5[[#This Row],[Voltage]],'MunicFlex 26-27'!$C$7:$C$10,0)-1} -> 4 | Y10: =MATCH(Table5[[#This Row],[Voltage]],'MunicFlex 26-27'!$B$29:$B$32,0) -> 4 | Z10: =MATCH(Table5[[#This Row],[Customer category]],'MunicFlex 26-27'!$B$38:$B$42,0) -> 4
A11: =Table5[[#This Row],[Tariff]]&Table5[[#This Row],[Transmission zone]]&Table5[[#This Row],[Voltage]]&Table5[[#This Row],[Customer category]] -> Municflex≤ 300km> 132kV*Key customers | B11: Municflex | C11: ≤ 300km | D11: > 132kV* | E11: Key customers | F11: {=INDEX('MunicFlex 26-27'!D$7:D$22,Table5[[#This Row],[Src energy row]])} -> 634.42 | G11: {=INDEX('MunicFlex 26-27'!F$7:F$22,Table5[[#This Row],[Src energy row]])} -> 158.61 | H11: {=INDEX('MunicFlex 26-27'!H$7:H$22,Table5[[#This Row],[Src energy row]])} -> 105.74 | I11: {=INDEX('MunicFlex 26-27'!J$7:J$22,Table5[[#This Row],[Src energy row]])} -> 263.3 | J11: {=INDEX('MunicFlex 26-27'!L$7:L$22,Table5[[#This Row],[Src energy row]])} -> 148.04 | K11: {=INDEX('MunicFlex 26-27'!N$7:N$22,Table5[[#This Row],[Src energy row]])} -> 105.74 | L11: {=INDEX('MunicFlex 26-27'!P$7:P$22,Table5[[#This Row],[Src energy row]])} -> 21.27 | M11: {=INDEX('MunicFlex 26-27'!R$7:R$22,Table5[[#This Row],[Src energy row]])} -> 10.85 | N11: {=INDEX('MunicFlex 26-27'!T$7:T$22,Table5[[#This Row],[Src energy row]])} -> 18.08 | O11: {=INDEX('MunicFlex 26-27'!M$29:M$32,Table5[[#This Row],[Src voltage idx]])} -> 0.38 | P11: {=INDEX('MunicFlex 26-27'!D$29:D$32,Table5[[#This Row],[Src voltage idx]])} -> 0 | Q11: {=INDEX('MunicFlex 26-27'!F$29:F$32,Table5[[#This Row],[Src voltage idx]])} -> 0 | R11: {=INDEX('MunicFlex 26-27'!H$29:H$32,Table5[[#This Row],[Src voltage idx]])} -> 2.43 | S11: {=INDEX('MunicFlex 26-27'!D$38:D$42,Table5[[#This Row],[Src category idx]])} -> 1238.27 | T11: {=INDEX('MunicFlex 26-27'!F$38:F$42,Table5[[#This Row],[Src category idx]])} -> 21.44 | U11: ='MunicFlex 26-27'!$B$52 -> 5.47 | V11: ='MunicFlex 26-27'!$K$38 -> 35.1 | W11: ='MunicFlex 26-27'!$M$38 -> 0 | X11: {=MATCH(Table5[[#This Row],[Transmission zone]],SUBSTITUTE('MunicFlex 26-27'!$B$7:$B$22,CHAR(10),""),0)+MATCH(Table5[[#This Row],[Voltage]],'MunicFlex 26-27'!$C$7:$C$10,0)-1} -> 4 | Y11: =MATCH(Table5[[#This Row],[Voltage]],'MunicFlex 26-27'!$B$29:$B$32,0) -> 4 | Z11: =MATCH(Table5[[#This Row],[Customer category]],'MunicFlex 26-27'!$B$38:$B$42,0) -> 5
A12: =Table5[[#This Row],[Tariff]]&Table5[[#This Row],[Transmission zone]]&Table5[[#This Row],[Voltage]]&Table5[[#This Row],[Customer category]] -> Municflex≤ 300km≥ 500V & < 66kV≤ 100 kVA | B12: Municflex | C12: ≤ 300km | D12: ≥ 500V & < 66kV | E12: ≤ 100 kVA | F12: {=INDEX('MunicFlex 26-27'!D$7:D$22,Table5[[#This Row],[Src energy row]])} -> 733.19 | G12: {=INDEX('MunicFlex 26-27'!F$7:F$22,Table5[[#This Row],[Src energy row]])} -> 183.29 | H12: {=INDEX('MunicFlex 26-27'!H$7:H$22,Table5[[#This Row],[Src energy row]])} -> 122.2 | I12: {=INDEX('MunicFlex 26-27'!J$7:J$22,Table5[[#This Row],[Src energy row]])} -> 304.28 | J12: {=INDEX('MunicFlex 26-27'!L$7:L$22,Table5[[#This Row],[Src energy row]])} -> 171.07 | K12: {=INDEX('MunicFlex 26-27'!N$7:N$22,Table5[[#This Row],[Src energy row]])} -> 122.2 | L12: {=INDEX('MunicFlex 26-27'!P$7:P$22,Table5[[#This Row],[Src energy row]])} -> 24.58 | M12: {=INDEX('MunicFlex 26-27'!R$7:R$22,Table5[[#This Row],[Src energy row]])} -> 11.72 | N12: {=INDEX('MunicFlex 26-27'!T$7:T$22,Table5[[#This Row],[Src energy row]])} -> 11.35 | O12: {=INDEX('MunicFlex 26-27'!M$29:M$32,Table5[[#This Row],[Src voltage idx]])} -> 0.44 | P12: {=INDEX('MunicFlex 26-27'!D$29:D$32,Table5[[#This Row],[Src voltage idx]])} -> 40.3 | Q12: {=INDEX('MunicFlex 26-27'!F$29:F$32,Table5[[#This Row],[Src voltage idx]])} -> 26.89 | R12: {=INDEX('MunicFlex 26-27'!H$29:H$32,Table5[[#This Row],[Src voltage idx]])} -> 0 | S12: {=INDEX('MunicFlex 26-27'!D$38:D$42,Table5[[#This Row],[Src category idx]])} -> 15.22 | T12: {=INDEX('MunicFlex 26-27'!F$38:F$42,Table5[[#This Row],[Src category idx]])} -> 0.82 | U12: ='MunicFlex 26-27'!$B$52 -> 5.47 | V12: ='MunicFlex 26-27'!$K$38 -> 35.1 | W12: ='MunicFlex 26-27'!$M$38 -> 0 | X12: {=MATCH(Table5[[#This Row],[Transmission zone]],SUBSTITUTE('MunicFlex 26-27'!$B$7:$B$22,CHAR(10),""),0)+MATCH(Table5[[#This Row],[Voltage]],'MunicFlex 26-27'!$C$7:$C$10,0)-1} -> 2 | Y12: =MATCH(Table5[[#This Row],[Voltage]],'MunicFlex 26-27'!$B$29:$B$32,0) -> 2 | Z12: =MATCH(Table5[[#This Row],[Customer category]],'MunicFlex 26-27'!$B$38:$B$42,0) -> 1
A13: =Table5[[#This Row],[Tariff]]&Table5[[#This Row],[Transmission zone]]&Table5[[#This Row],[Voltage]]&Table5[[#This Row],[Customer category]] -> Municflex≤ 300km≥ 500V & < 66kV> 100 kVA & ≤ 500 kVA | B13: Municflex | C13: ≤ 300km | D13: ≥ 500V & < 66kV | E13: > 100 kVA & ≤ 500 kVA | F13: {=INDEX('MunicFlex 26-27'!D$7:D$22,Table5[[#This Row],[Src energy row]])} -> 733.19 | G13: {=INDEX('MunicFlex 26-27'!F$7:F$22,Table5[[#This Row],[Src energy row]])} -> 183.29 | H13: {=INDEX('MunicFlex 26-27'!H$7:H$22,Table5[[#This Row],[Src energy row]])} -> 122.2 | I13: {=INDEX('MunicFlex 26-27'!J$7:J$22,Table5[[#This Row],[Src energy row]])} -> 304.28 | J13: {=INDEX('MunicFlex 26-27'!L$7:L$22,Table5[[#This Row],[Src energy row]])} -> 171.07 | K13: {=INDEX('MunicFlex 26-27'!N$7:N$22,Table5[[#This Row],[Src energy row]])} -> 122.2 | L13: {=INDEX('MunicFlex 26-27'!P$7:P$22,Table5[[#This Row],[Src energy row]])} -> 24.58 | M13: {=INDEX('MunicFlex 26-27'!R$7:R$22,Table5[[#This Row],[Src energy row]])} -> 11.72 | N13: {=INDEX('MunicFlex 26-27'!T$7:T$22,Table5[[#This Row],[Src energy row]])} -> 11.35 | O13: {=INDEX('MunicFlex 26-27'!M$29:M$32,Table5[[#This Row],[Src voltage idx]])} -> 0.44 | P13: {=INDEX('MunicFlex 26-27'!D$29:D$32,Table5[[#This Row],[Src voltage idx]])} -> 40.3 | Q13: {=INDEX('MunicFlex 26-27'!F$29:F$32,Table5[[#This Row],[Src voltage idx]])} -> 26.89 | R13: {=INDEX('MunicFlex 26-27'!H$29:H$32,Table5[[#This Row],[Src voltage idx]])} -> 0 | S13: {=INDEX('MunicFlex 26-27'!D$38:D$42,Table5[[#This Row],[Src category idx]])} -> 71.17 | T13: {=INDEX('MunicFlex 26-27'!F$38:F$42,Table5[[#This Row],[Src category idx]])} -> 13.72 | U13: ='MunicFlex 26-27'!$B$52 -> 5.47 | V13: ='MunicFlex 26-27'!$K$38 -> 35.1 | W13: ='MunicFlex 26-27'!$M$38 -> 0 | X13: {=MATCH(Table5[[#This Row],[Transmission zone]],SUBSTITUTE('MunicFlex 26-27'!$B$7:$B$22,CHAR(10),""),0)+MATCH(Table5[[#This Row],[Voltage]],'MunicFlex 26-27'!$C$7:$C$10,0)-1} -> 2 | Y13: =MATCH(Table5[[#This Row],[Voltage]],'MunicFlex 26-27'!$B$29:$B$32,0) -> 2 | Z13: =MATCH(Table5[[#This Row],[Customer category]],'MunicFlex 26-27'!$B$38:$B$42,0) -> 2
... A81: =Table5[[#This Row],[Tariff]]&Table5[[#This Row],[Transmission zone]]&Table5[[#This Row],[Voltage]]&Table5[[#This Row],[Customer category]] -> Municflex> 300km and ≤ 600km≥ 66kV & ≤ 132kVKey customers | B81: Municflex | C81: > 300km and ≤ 600km | D81: ≥ 66kV & ≤ 132kV | E81: Key customers | F81: {=INDEX('MunicFlex 26-27'!D$7:D$22,Table5[[#This Row],[Src energy row]])} -> 687.16 | G81: {=INDEX('MunicFlex 26-27'!F$7:F$22,Table5[[#This Row],[Src energy row]])} -> 171.8 | H81: {=INDEX('MunicFlex 26-27'!H$7:H$22,Table5[[#This Row],[Src energy row]])} -> 114.53 | I81: {=INDEX('MunicFlex 26-27'!J$7:J$22,Table5[[#This Row],[Src energy row]])} -> 285.17 | J81: {=INDEX('MunicFlex 26-27'!L$7:L$22,Table5[[#This Row],[Src energy row]])} -> 160.34 | K81: {=INDEX('MunicFlex 26-27'!N$7:N$22,Table5[[#This Row],[Src energy row]])} -> 114.53 | L81: {=INDEX('MunicFlex 26-27'!P$7:P$22,Table5[[#This Row],[Src energy row]])} -> 22.82 | M81: {=INDEX('MunicFlex 26-27'!R$7:R$22,Table5[[#This Row],[Src energy row]])} -> 9.82 | N81: {=INDEX('MunicFlex 26-27'!T$7:T$22,Table5[[#This Row],[Src energy row]])} -> 10.46 | O81: {=INDEX('MunicFlex 26-27'!M$29:M$32,Table5[[#This Row],[Src voltage idx]])} -> 0.4 | P81: {=INDEX('MunicFlex 26-27'!D$29:D$32,Table5[[#This Row],[Src voltage idx]])} -> 17.7 | Q81: {=INDEX('MunicFlex 26-27'!F$29:F$32,Table5[[#This Row],[Src voltage idx]])} -> 10.46 | R81: {=INDEX('MunicFlex 26-27'!H$29:H$32,Table5[[#This Row],[Src voltage idx]])} -> 2.43 | S81: {=INDEX('MunicFlex 26-27'!D$38:D$42,Table5[[#This Row],[Src category idx]])} -> 1238.27 | T81: {=INDEX('MunicFlex 26-27'!F$38:F$42,Table5[[#This Row],[Src category idx]])} -> 21.44 | U81: ='MunicFlex 26-27'!$B$52 -> 5.47 | V81: ='MunicFlex 26-27'!$K$38 -> 35.1 | W81: ='MunicFlex 26-27'!$M$38 -> 0 | X81: {=MATCH(Table5[[#This Row],[Transmission zone]],SUBSTITUTE('MunicFlex 26-27'!$B$7:$B$22,CHAR(10),""),0)+MATCH(Table5[[#This Row],[Voltage]],'MunicFlex 26-27'!$C$7:$C$10,0)-1} -> 7 | Y81: =MATCH(Table5[[#This Row],[Voltage]],'MunicFlex 26-27'!$B$29:$B$32,0) -> 3 | Z81: =MATCH(Table5[[#This Row],[Customer category]],'MunicFlex 26-27'!$B$38:$B$42,0) -> 5

Sheet MunicFlex 26-27
A1: Municflex – Local Authority
D3: Active energy charge [c/kWh] | P3: Legacy charge [c/kWh] | R3: Generation capacity charge [R/kVA/m] | T3: Transmission network charges [R/kVA/m]
B4: Transmission zone | D4: High demand season [Jun - Aug] | J4: Low demand season [Sep - May]
C5: Voltage | D5: Peak | F5: Standard | H5: Off Peak | J5: Peak | L5: Standard | N5: Off Peak
E6: VAT incl | G6: VAT incl | I6: VAT incl | K6: VAT incl | M6: VAT incl | O6: VAT incl | Q6: VAT incl | S6: VAT incl | U6: VAT incl
B7: ≤ 300km | C7: < 500V | D7: 754.92 | E7: 868.16 | F7: 188.7 | G7: 217.01 | H7: 125.84 | I7: 144.72 | J7: 313.35 | K7: 360.35 | L7: 176.16 | M7: 202.58 | N7: 125.89 | O7: 144.77 | P7: 25.31 | Q7: 29.11 | R7: 5.06 | S7: 5.82 | T7: 11.83 | U7: 13.6
C8: ≥ 500V & < 66kV | D8: 733.19 | E8: 843.17 | F8: 183.29 | G8: 210.78 | H8: 122.2 | I8: 140.53 | J8: 304.28 | K8: 349.92 | L8: 171.07 | M8: 196.73 | N8: 122.2 | O8: 140.53 | P8: 24.58 | Q8: 28.27 | R8: 11.72 | S8: 13.48 | T8: 11.35 | U8: 13.05
C9: ≥ 66kV & ≤ 132kV | D9: 680.35 | E9: 782.4 | F9: 170.09 | G9: 195.6 | H9: 113.38 | I9: 130.39 | J9: 282.36 | K9: 324.71 | L9: 158.76 | M9: 182.57 | N9: 113.38 | O9: 130.39 | P9: 22.82 | Q9: 26.24 | R9: 9.82 | S9: 11.29 | T9: 10.36 | U9: 11.91
C10: > 132kV* | D10: 634.42 | E10: 729.58 | F10: 158.61 | G10: 182.4 | H10: 105.74 | I10: 121.6 | J10: 263.3 | K10: 302.8 | L10: 148.04 | M10: 170.25 | N10: 105.74 | O10: 121.6 | P10: 21.27 | Q10: 24.46 | R10: 10.85 | S10: 12.48 | T10: 18.08 | U10: 20.79
B11: > 300km and ≤ 600km | C11: < 500V | D11: 765.2 | E11: 879.98 | F11: 191.31 | G11: 220.01 | H11: 127.55 | I11: 146.68 | J11: 317.58 | K11: 365.22 | L11: 178.57 | M11: 205.36 | N11: 127.55 | O11: 146.68 | P11: 25.4 | Q11: 29.21 | R11: 5.06 | S11: 5.82 | T11: 12 | U11: 13.8
C12: ≥ 500V & < 66kV | D12: 741.59 | E12: 852.83 | F12: 185.41 | G12: 213.22 | H12: 123.62 | I12: 142.16 | J12: 307.76 | K12: 353.92 | L12: 173.05 | M12: 199.01 | N12: 123.62 | O12: 142.16 | P12: 24.63 | Q12: 28.32 | R12: 11.72 | S12: 13.48 | T12: 11.49 | U12: 13.21
C13: ≥ 66kV & ≤ 132kV | D13: 687.16 | E13: 790.23 | F13: 171.8 | G13: 197.57 | H13: 114.53 | I13: 131.71 | J13: 285.17 | K13: 327.95 | L13: 160.34 | M13: 184.39 | N13: 114.53 | O13: 131.71 | P13: 22.82 | Q13: 26.24 | R13: 9.82 | S13: 11.29 | T13: 10.46 | U13: 12.03
C14: > 132kV* | D14: 640.77 | E14: 736.89 | F14: 160.19 | G14: 184.22 | H14: 106.79 | I14: 122.81 | J14: 265.92 | K14: 305.81 | L14: 149.52 | M14: 171.95 | N14: 106.79 | O14: 122.81 | P14: 21.27 | Q14: 24.46 | R14: 10.85 | S14: 12.48 | T14: 18.27 | U14: 21.01
B15: > 600km and ≤ 900km | C15: < 500V | D15: 772.4 | E15: 888.26 | F15: 193.09 | G15: 222.05 | H15: 128.76 | I15: 148.07 | J15: 320.6 | K15: 368.69 | L15: 180.24 | M15: 207.28 | N15: 128.77 | O15: 148.09 | P15: 25.39 | Q15: 29.2 | R15: 5.06 | S15: 5.82 | T15: 12.13 | U15: 13.95
C16: ≥ 500V & < 66kV | D16: 749.21 | E16: 861.59 | F16: 187.32 | G16: 215.42 | H16: 124.9 | I16: 143.64 | J16: 310.95 | K16: 357.59 | L16: 174.82 | M16: 201.04 | N16: 124.9 | O16: 143.64 | P16: 24.63 | Q16: 28.32 | R16: 11.72 | S16: 13.48 | T16: 11.61 | U16: 13.35
C17: ≥ 66kV & ≤ 132kV | D17: 693.96 | E17: 798.05 | F17: 173.49 | G17: 199.51 | H17: 115.66 | I17: 133.01 | J17: 288.01 | K17: 331.21 | L17: 161.92 | M17: 186.21 | N17: 115.66 | O17: 133.01 | P17: 22.82 | Q17: 26.24 | R17: 9.82 | S17: 11.29 | T17: 10.55 | U17: 12.13
C18: > 132kV* | D18: 647.11 | E18: 744.18 | F18: 161.78 | G18: 186.05 | H18: 107.85 | I18: 124.03 | J18: 268.56 | K18: 308.84 | L18: 151 | M18: 173.65 | N18: 107.85 | O18: 124.03 | P18: 21.27 | Q18: 24.46 | R18: 10.85 | S18: 12.48 | T18: 18.44 | U18: 21.21
B19: > 900km | C19: < 500V | D19: 781.01 | E19: 898.16 | F19: 195.25 | G19: 224.54 | H19: 130.17 | I19: 149.7 | J19: 324.11 | K19: 372.73 | L19: 182.24 | M19: 209.58 | N19: 130.17 | O19: 149.7 | P19: 25.42 | Q19: 29.23 | R19: 5.06 | S19: 5.82 | T19: 12.24 | U19: 14.08
C20: ≥ 500V & < 66kV | D20: 756.32 | E20: 869.77 | F20: 189.07 | G20: 217.43 | H20: 126.06 | I20: 144.97 | J20: 313.87 | K20: 360.95 | L20: 176.47 | M20: 202.94 | N20: 126.06 | O20: 144.97 | P20: 24.63 | Q20: 28.32 | R20: 11.72 | S20: 13.48 | T20: 11.72 | U20: 13.48
C21: ≥ 66kV & ≤ 132kV | D21: 700.77 | E21: 805.89 | F21: 175.19 | G21: 201.47 | H21: 116.79 | I21: 134.31 | J21: 290.81 | K21: 334.43 | L21: 163.52 | M21: 188.05 | N21: 116.79 | O21: 134.31 | P21: 22.82 | Q21: 26.24 | R21: 9.82 | S21: 11.29 | T21: 10.67 | U21: 12.27
C22: > 132kV* | D22: 653.45 | E22: 751.47 | F22: 163.37 | G22: 187.88 | H22: 108.9 | I22: 125.24 | J22: 271.19 | K22: 311.87 | L22: 152.46 | M22: 175.33 | N22: 108.9 | O22: 125.24 | P22: 21.27 | Q22: 24.46 | R22: 10.85 | S22: 12.48 | T22: 18.64 | U22: 21.44
C23: * 132 kV or Transmission connected
B25: Distribution network charges
D26: Network capacity charge [R/kVA/m] | F26: Network demand charge [R/kVA/m] | H26: Urban low voltage subsidy charge [R/kVA/m]
B27: Voltage | K27: Voltage | M27: Ancillary service charge [c/kWh]
E28: VAT incl | G28: VAT incl | I28: VAT incl | N28: VAT incl
B29: < 500V | D29: 43.99 | E29: 50.59 | F29: 53.58 | G29: 61.62 | H29: 0 | I29: 0 | K29: < 500V | M29: 0.45 | N29: 0.52
B30: ≥ 500V & < 66kV | D30: 40.3 | E30: 46.35 | F30: 26.89 | G30: 30.92 | H30: 0 | I30: 0 | K30: ≥ 500V & < 66kV | M30: 0.44 | N30: 0.51
B31: ≥ 66kV & ≤ 132kV | D31: 17.7 | E31: 20.36 | F31: 10.46 | G31: 12.03 | H31: 2.43 | I31: 2.79 | K31: ≥ 66kV & ≤ 132kV | M31: 0.4 | N31: 0.46
B32: > 132kV* | D32: 0 | E32: 0 | F32: 0 | G32: 0 | H32: 2.43 | I32: 2.79 | K32: > 132kV* | M32: 0.38 | N32: 0.44
B33: * 132 kV or Transmission connected | K33: * 132 kV or Transmission connected
B35: Customer categories | D35: Service charge [R/POD/day] | F35: Administration charge [R/POD/day] | K35: Reactive energy charge [c/kVArh]
K36: High season | M36: Low season
E37: VAT incl | G37: VAT incl | L37: VAT incl | N37: VAT incl
B38: ≤ 100 kVA | D38: 15.22 | E38: 17.5 | F38: 0.82 | G38: 0.94 | K38: 35.1 | L38: 40.37 | M38: 0 | N38: 0
B39: > 100 kVA & ≤ 500 kVA | D39: 71.17 | E39: 81.85 | F39: 13.72 | G39: 15.78
B40: > 500 kVA & ≤ 1 MVA | D40: 219.79 | E40: 252.76 | F40: 21.44 | G40: 24.66
B41: > 1 MVA | D41: 219.79 | E41: 252.76 | F41: 21.44 | G41: 24.66
B42: Key customers | D42: 1238.27 | E42: 1424.01 | F42: 21.44 | G42: 24.66
B48: Electrification and rural network subsidy charge [c/kWh]
C51: VAT incl
B52: 5.47 | C52: 6.29

Sheet Admin
A1: Drop Down Lists | B1: Tariff Type | C1: Transmissison Zone | D1: Volatge | E1: Customer Category
B2: Megaflex | C2: ≤ 300km | D2: < 500V | E2: ≤ 100 kVA
B3: Miniflex | C3: > 300km and ≤ 600km | D3: ≥ 500V & < 66kV | E3: > 100 kVA & ≤ 500 kVA
B4: Nightsave - Urban Large | C4: > 600km and ≤ 900km | D4: ≥ 66kV & ≤ 132kV | E4: > 500 kVA & ≤ 1 MVA
B5: Nightsave - Urban Small | C5: > 900km | D5: > 132kV* | E5: > 1 MVA
B6: Ruraflex | E6: Key customers
B7: Nightsave - Rural
A11: Check List | B11: Active energy charge | C11: Transmission network charge | D11: Network capacity charge | E11: Ancillary service charge | F11: Network demand charge | G11: Administration charge | H11: Service charge | I11: Reactive energy charge | J11: Low voltage subsidy charge | K11: Electrification subsidy charge
A12: Megaflex | B12: Yes | C12: Yes | D12: Yes | E12: Yes | F12: Yes | G12: Yes | H12: Yes | I12: Yes | J12: Yes | K12: Yes
A13: Miniflex | B13: Yes | C13: Yes | D13: N/A | E13: Yes | F13: Yes | G13: Yes | H13: Yes | I13: Yes | J13: Yes | K13: Yes
A14: Nightsave - Urban Large | B14: Yes | C14: Yes | D14: Yes | E14: Yes | F14: Yes | G14: Yes | H14: Yes | I14: Yes | J14: Yes | K14: Yes
A15: Nightsave - Urban Small | B15: Yes | C15: Yes | D15: Yes | E15: Yes | F15: Yes | G15: Yes | H15: Yes | I15: Yes | J15: Yes | K15: Yes
A16: Ruraflex | B16: Yes | C16: N/A | D16: Yes | E16: Yes | F16: Yes | G16: Yes | H16: Yes | I16: Yes | J16: N/A | K16: N/A
A17: Nightsave - Rural | B17: Yes | C17: N/A | D17: Yes | E17: Yes | F17: Yes | G17: Yes | H17: Yes | I17: N/A | J17: N/A | K17: N/A
A19: Notes
A20: For Nightsave, Energy Demand Charges are added to network demand charges
A23: Tariff Booklet File Location
A24: C:\Users\morga\Urban Earth\GFA MEMS - Documents\TA 05 Tool Workshops and Ad hoc\10 SEA COS\TariffBooks\ESK114-Eskom-Digital-Tariff-Booklet-2024_Final.pdf

Sheet NightSave UrbanS - Service & Ad
A1: Customer Categories | B1: Service charge [R/account/day] | C1: Administration charge [R/POD/day]
B2: Service charge [R/account/day] | C2: Administration charge [R/POD/day]
A3: Customer categories
A4: ≤ 100 kVA | B4: R28.61 | C4: R6.27
A5: > 100 kVA & ≤ 500 kVA | B5: R130.73 | C5: R36.61
A6: > 500 kVA & ≤ 1 MVA | B6: R402.32 | C6: R72.83
A7: Key customers | B7: R7 883.85 | C7: R251.77

Sheet NightSave UrbanS - Network
A1: Voltage | B1: Network capacity charge [R/kVA/m] | C1: Network demand charge [R/kVA/m] | D1: Urban low voltage subsidy charge [R/kVA/m]
C3: Network demand charge [R/kVA/m] | D3: Urban low voltage subsidy charge [R/kVA/m]
A4: Voltage
A5: < 500V | B5: R35.24 | C5: R66.75 | D5: R0.00
A6: ≥ 500V & < 66kV | B6: R32.29 | C6: R61.22 | D6: R0.00
A7: ≥ 66kV & ≤ 132kV | B7: R11.55 | C7: R21.37 | D7: R28.29
A8: > 132kV/ Transmission connected | B8: R0.00 | C8: R0.00 | D8: R28.29

Sheet NightSave UrbanS - Ancillary
A1: Voltage | B1: Ancillary service charge [c/kWh]
B2: Ancillary service charge [c/kWh]
A3: Voltage
A4: < 500V | B4: 0.82
A5: ≥ 500V & < 66kV | B5: 0.80
A6: ≥ 66kV & ≤ 132kV | B6: 0.73
A7: > 132kV* | B7: 0.70

Sheet Megaflex - Energy&Transmission
A1: Column1 | B1: Column2 | C1: Column3 | D1: Column4 | E1: Column5 | F1: Column6 | G1: Column7 | H1: Column8 | I1: Column9 | J1: Column10 | K1: Column11 | L1: Column12 | M1: Column13 | N1: Column14 | O1: Column15 | P1: Column16
C2: ACTIVE ENERGY CHARGE FOR LOADS (c/kWh)
C3: High demand season | Jun - Aug | M3: Low demand season | Sep - May | O3: Transmission network charges [R/kVA/m]
C4: Peak | E4: Standard | G4: Off Peak | I4: Peak | K4: Standard | M4: Off Peak
A5: Transmission zone | B5: Voltage | D5: VAT incl | F5: VAT incl | H5: VAT incl | J5: VAT incl | L5: VAT incl | N5: VAT incl | P5: VAT incl
A6: ≤ 300km | B6: < 500V | C6: 634.05 | D6: 729.16 | E6: 192.94 | F6: 221.88 | G6: 105.28 | H6: 121.07 | I6: 207.57 | J6: 238.71 | K6: 143.26 | L6: 164.75 | M6: 91.31 | N6: 105.01 | O6: R17.67 | P6: R20.32
B7: ≥ 500V & < 66kV | C7: 624.05 | D7: 717.66 | E7: 189.08 | F7: 217.44 | G7: 102.70 | H7: 118.11 | I7: 203.57 | J7: 234.11 | K7: 140.10 | L7: 161.12 | M7: 88.91 | N7: 102.25 | O7: R16.12 | P7: R18.54
B8: ≥ 66kV & ≤ 132kV | C8: 604.37 | D8: 695.03 | E8: 183.08 | F8: 210.54 | G8: 99.43 | H8: 114.34 | I8: 197.16 | J8: 226.73 | K8: 135.73 | L8: 156.09 | M8: 86.08 | N8: 98.99 | O8: R15.68 | P8: R18.03
B9: > 132kV* | C9: 569.57 | D9: 655.01 | E9: 172.54 | F9: 198.42 | G9: 93.69 | H9: 107.74 | I9: 185.80 | J9: 213.67 | K9: 127.87 | L9: 147.05 | M9: 81.11 | N9: 93.28 | O9: R19.86 | P9: R22.84
A10: > 300km and ≤ 600km | B10: < 500V | C10: 639.22 | D10: 735.10 | E10: 193.63 | F10: 222.67 | G10: 105.13 | H10: 120.90 | I10: 208.52 | J10: 239.80 | K10: 143.55 | L10: 165.08 | M10: 91.08 | N10: 104.74 | O10: R17.74 | P10: R20.40
B11: ≥ 500V & < 66kV | C11: 630.30 | D11: 724.85 | E11: 190.94 | F11: 219.58 | G11: 103.68 | H11: 119.23 | I11: 205.65 | J11: 236.50 | K11: 141.52 | L11: 162.75 | M11: 89.77 | N11: 103.24 | O11: R16.31 | P11: R18.76
B12: ≥ 66kV & ≤ 132kV | C12: 610.28 | D12: 701.82 | E12: 184.86 | F12: 212.59 | G12: 100.39 | H12: 115.45 | I12: 199.09 | J12: 228.95 | K12: 137.00 | L12: 157.55 | M12: 86.90 | N12: 99.94 | O12: R15.81 | P12: R18.18
B13: > 132kV* | C13: 575.26 | D13: 661.55 | E13: 174.31 | F13: 200.46 | G13: 94.63 | H13: 108.82 | I13: 187.62 | J13: 215.76 | K13: 129.18 | L13: 148.56 | M13: 81.91 | N13: 94.20 | O13: R20.05 | P13: R23.06
A14: > 600km and ≤ 900km | B14: < 500V | C14: 645.60 | D14: 742.44 | E14: 195.58 | F14: 224.92 | G14: 106.18 | H14: 122.11 | I14: 210.57 | J14: 242.16 | K14: 144.97 | L14: 166.72 | M14: 91.97 | N14: 105.77 | O14: R17.98 | P14: R20.68
B15: ≥ 500V & < 66kV | C15: 636.65 | D15: 732.15 | E15: 192.84 | F15: 221.77 | G15: 104.74 | H15: 120.45 | I15: 207.72 | J15: 238.88 | K15: 142.87 | L15: 164.30 | M15: 90.68 | N15: 104.28 | O15: R16.40 | P15: R18.86
B16: ≥ 66kV & ≤ 132kV | C16: 616.50 | D16: 708.98 | E16: 186.72 | F16: 214.73 | G16: 101.38 | H16: 116.59 | I16: 201.04 | J16: 231.20 | K16: 138.36 | L16: 159.11 | M16: 87.75 | N16: 100.91 | O16: R15.94 | P16: R18.33
B17: > 132kV* | C17: 581.03 | D17: 668.18 | E17: 176.05 | F17: 202.46 | G17: 95.58 | H17: 109.92 | I17: 189.56 | J17: 217.99 | K17: 130.45 | L17: 150.02 | M17: 82.75 | N17: 95.16 | O17: R20.32 | P17: R23.37
A18: > 900km | B18: < 500V | C18: 652.06 | D18: 749.87 | E18: 197.56 | F18: 227.19 | G18: 107.28 | H18: 123.37 | I18: 212.74 | J18: 244.65 | K18: 146.39 | L18: 168.35 | M18: 92.89 | N18: 106.82 | O18: R18.06 | P18: R20.77
B19: ≥ 500V & < 66kV | C19: 643.01 | D19: 739.46 | E19: 194.77 | F19: 223.99 | G19: 105.79 | H19: 121.66 | I19: 209.73 | J19: 241.19 | K19: 144.35 | L19: 166.00 | M19: 91.54 | N19: 105.27 | O19: R16.59 | P19: R19.08
B20: ≥ 66kV & ≤ 132kV | C20: 622.70 | D20: 716.11 | E20: 188.65 | F20: 216.95 | G20: 102.44 | H20: 117.81 | I20: 203.12 | J20: 233.59 | K20: 139.77 | L20: 160.74 | M20: 88.67 | N20: 101.97 | O20: R16.05 | P20: R18.46
B21: > 132kV* | C21: 586.75 | D21: 674.76 | E21: 177.82 | F21: 204.49 | G21: 96.65 | H21: 111.15 | I21: 191.50 | J21: 220.23 | K21: 131.81 | L21: 151.58 | M21: 83.66 | N21: 96.21 | O21: R20.45 | P21: R23.52

Sheet Megaflex - Service & Admin
A1: Customer categories | B1: Service charge [R/account/day] | C1: Administration charge [R/POD/day]
B2: Service charge [R/account/day] | C2: Administration charge [R/POD/day]
A3: Customer categories
A4: > 1 MVA/MW | B4: R402.32 | C4: R181.34
A5: Key customers or Transmission connected generators | B5: R7 883.85 | C5: R251.77

Sheet Megaflex - Reactive Energy
A1: Reactive - High season [c/kVArh] | B1: Reactive - Low season [c/kVArh]
B3: Low season
A5: 28.30 | B5: 0.00

Sheet Megaflex - Distribution network
A1: Voltage | B1: Network capacity charge [R/kVa/m] | C1: Network demand charge [R/kVa/m] | D1: Urban low voltage subsidy charge [R/kVA/m]
B2: Distribution network charges
B3: Network capacity charge [R/kVA/m] | C3: Network demand charge [R/kVA/m] | D3: Urban low voltage subsidy charge [R/kVA/m]
A4: Voltage
A5: < 500V | B5: R35.24 | C5: R66.75 | D5: R0.00
A6: ≥ 500V & < 66kV | B6: R32.29 | C6: R61.22 | D6: R0.00
A7: ≥ 66kV & ≤ 132kV | B7: R11.55 | C7: R21.37 | D7: R28.29
A8: > 132kV / Transmission connected | B8: R0.00 | C8: R0.00 | D8: R28.29

Sheet Megaflex - Electrification and 
A1: Electrification and rural network subsidy charge [c/kWh]
A2: Electrification and rural network subsidy charge [c/kWh]
A4: 15.67

Sheet Megaflex - Ancillary
A1: Volatge | B1: Ancillary service charge [c/kWh]
B2: Ancillary service charge [c/kWh]
A3: Voltage
A4: < 500V | B4: 0.82
A5: ≥ 500V & < 66kV | B5: 0.80
A6: ≥ 66kV & ≤ 132kV | B6: 0.73
A7: > 132kV* | B7: 0.70

Sheet Miniflex - Energy&Transmission
A1: Transmission zone | B1: Voltage | C1: High Season Peak | D1: High Season Standard | E1: High Seaon Off Peak | F1: Low Season Peak | G1: Low Season Standard | H1: Low Season Off Peak | I1: Transmission network charges [R/kVA/m]
C2: ACTIVE ENERGY CHARGE FOR LOADS (c/kWh)
C3: High demand season | Jun - Aug | F3: Low demand season | Sep - May | I3: Transmission network charges [R/kVA/m]
C4: Peak | D4: Standard | E4: Off Peak | F4: Peak | H4: Off Peak
A5: Transmission zone | B5: Voltage
A6: ≤ 300km | B6: < 500V | C6: 634.05 | D6: 192.94 | E6: 105.28 | F6: 207.57 | G6: 143.26 | H6: 91.31 | I6: R52.88
B7: ≥ 500V & < 66kV | C7: 624.05 | D7: 189.08 | E7: 102.70 | F7: 203.57 | G7: 140.10 | H7: 88.91 | I7: R48.41
B8: ≥ 66kV & ≤ 132kV | C8: 604.37 | D8: 183.08 | E8: 99.43 | F8: 197.16 | G8: 135.73 | H8: 86.08 | I8: R27.19
B9: > 132kV* | C9: 569.57 | D9: 172.54 | E9: 93.69 | F9: 185.80 | G9: 127.87 | H9: 81.11 | I9: R19.86
A10: > 300km and ≤ 600km | B10: < 500V | C10: 639.22 | D10: 193.63 | E10: 105.13 | F10: 208.52 | G10: 143.55 | H10: 91.08 | I10: R52.97
B11: ≥ 500V & < 66kV | C11: 630.30 | D11: 190.94 | E11: 103.68 | F11: 205.65 | G11: 141.52 | H11: 89.77 | I11: R48.62
B12: ≥ 66kV & ≤ 132kV | C12: 610.28 | D12: 184.86 | E12: 100.39 | F12: 199.09 | G12: 137.00 | H12: 86.90 | I12: R27.33
B13: > 132kV* | C13: 575.26 | D13: 174.31 | E13: 94.63 | F13: 187.62 | G13: 129.18 | H13: 81.91 | I13: R20.05
A14: > 600km and ≤ 900km | B14: < 500V | C14: 645.60 | D14: 195.58 | E14: 106.18 | F14: 210.57 | G14: 144.97 | H14: 91.97 | I14: R53.25
B15: ≥ 500V & < 66kV | C15: 636.65 | D15: 192.84 | E15: 104.74 | F15: 207.72 | G15: 142.87 | H15: 90.68 | I15: R48.74
B16: ≥ 66kV & ≤ 132kV | C16: 616.50 | D16: 186.72 | E16: 101.38 | F16: 201.04 | G16: 138.36 | H16: 87.75 | I16: R27.47
B17: > 132kV* | C17: 581.03 | D17: 176.05 | E17: 95.58 | F17: 189.56 | G17: 130.45 | H17: 82.75 | I17: R20.32
A18: > 900km | B18: < 500V | C18: 652.06 | D18: 197.56 | E18: 107.28 | F18: 212.74 | G18: 146.39 | H18: 92.89 | I18: R53.27
B19: ≥ 500V & < 66kV | C19: 643.01 | D19: 194.77 | E19: 105.79 | F19: 209.73 | G19: 144.35 | H19: 91.54 | I19: R48.95
B20: ≥ 66kV & ≤ 132kV | C20: 622.70 | D20: 188.65 | E20: 102.44 | F20: 203.12 | G20: 139.77 | H20: 88.67 | I20: R27.57
B21: > 132kV* | C21: 586.75 | D21: 177.82 | E21: 96.65 | F21: 191.50 | G21: 131.81 | H21: 83.66 | I21: R20.45

Sheet Miniflex - Reactive Energy
A1: Reactive energy high season [c/kVArh] | B1: Reactive energy low season [c/kVArh]
A2: Reactive energy charge | B2: [c/kVArh]
A3: High season | B3: Low season
A5: 12.41 | B5: 0.00

Sheet Miniflex - Electification Sub
A1: Electrification and rural network subsidy charge [c/kWh]
A2: Electrification and rural network subsidy charge [c/kWh]
A4: 15.67

Sheet Miniflex - Low Voltage Sub
A1: Voltage | B1: Urban low voltage subsidy [R/kVA/m]
A2: Urban low voltage subsidy charge [R/kVA/m]
A3: < 500V | B3: 0.00
A4: ≥ 500V & < 66kV | B4: 0.00
A5: ≥ 66kV & ≤ 132kV | B5: 28.29
A6: > 132kV* | B6: 28.29

Sheet Miniflex - Ancillary
A1: Voltage | B1: Ancillary service charge [c/kWh] | C1: Network demand charge [c/kWh]
B2: Ancillary service charge [c/kWh] | C2: Network demand charge [c/kWh] [Peak & Standard]
A3: Voltage
A4: < 500V | B4: 0.82 | C4: 32.71
A5: ≥ 500V & < 66kV | B5: 0.80 | C5: 13.74
A6: ≥ 66kV & ≤ 132kV | B6: 0.73 | C6: 4.75
A7: > 132kV* | B7: 0.70 | C7: 0.00

Sheet Miniflex - Service & Admin
A1: Customer categories | B1: Service charge [R/account/day] | C1: Administration charge [R/POD/day]
B2: Service charge [R/account/day] | C2: Administration charge [R/POD/day]
A3: Customer categories
A4: ≤ 100 kVA | B4: R28.61 | C4: R6.27
A5: > 100 kVA & ≤ 500 kVA | B5: R130.73 | C5: R36.61
A6: > 500 kVA & ≤ 1 MVA | B6: R402.32 | C6: R72.83
A7: > 1 MVA | B7: R402.32 | C7: R181.34
A8: Key customers | B8: R7 883.85 | C8: R251.77
